BEGIN:VCALENDAR
VERSION:2.0
PRODID:-//Kamloops Photo Arts - ECPv6.15.20//NONSGML v1.0//EN
CALSCALE:GREGORIAN
METHOD:PUBLISH
X-WR-CALNAME:Kamloops Photo Arts
X-ORIGINAL-URL:https://www.kamloopsphotoarts.ca
X-WR-CALDESC:Events for Kamloops Photo Arts
REFRESH-INTERVAL;VALUE=DURATION:PT1H
X-Robots-Tag:noindex
X-PUBLISHED-TTL:PT1H
BEGIN:VTIMEZONE
TZID:America/Vancouver
BEGIN:DAYLIGHT
TZOFFSETFROM:-0800
TZOFFSETTO:-0700
TZNAME:PDT
DTSTART:20220313T100000
END:DAYLIGHT
BEGIN:STANDARD
TZOFFSETFROM:-0700
TZOFFSETTO:-0800
TZNAME:PST
DTSTART:20221106T090000
END:STANDARD
BEGIN:DAYLIGHT
TZOFFSETFROM:-0800
TZOFFSETTO:-0700
TZNAME:PDT
DTSTART:20230312T100000
END:DAYLIGHT
BEGIN:STANDARD
TZOFFSETFROM:-0700
TZOFFSETTO:-0800
TZNAME:PST
DTSTART:20231105T090000
END:STANDARD
BEGIN:DAYLIGHT
TZOFFSETFROM:-0800
TZOFFSETTO:-0700
TZNAME:PDT
DTSTART:20240310T100000
END:DAYLIGHT
BEGIN:STANDARD
TZOFFSETFROM:-0700
TZOFFSETTO:-0800
TZNAME:PST
DTSTART:20241103T090000
END:STANDARD
END:VTIMEZONE
BEGIN:VEVENT
DTSTART;TZID=America/Vancouver:20231025T190000
DTEND;TZID=America/Vancouver:20231025T200000
DTSTAMP:20260422T012218
CREATED:20230907T151841Z
LAST-MODIFIED:20230907T151942Z
UID:39760-1698260400-1698264000@www.kamloopsphotoarts.ca
SUMMARY:October 25\, 2023 - Showcase: Black and White
DESCRIPTION:For this showcase\, members can submit a Black and White image in any genre of their choosing.  For example\, architecture\, street\, nature\, people or landscape.   \n\n\n\nThis meeting will be presented via Zoom Video Conferencing
URL:https://www.kamloopsphotoarts.ca/event/october-25-2023-showcase-black-and-white/
CATEGORIES:KPAC Event
ATTACH;FMTTYPE=image/jpeg:https://www.kamloopsphotoarts.ca/wp-content/uploads/2023/09/217A9944-Edit-1-2-copy-3rs.jpg
END:VEVENT
BEGIN:VEVENT
DTSTART;TZID=America/Vancouver:20231018T190000
DTEND;TZID=America/Vancouver:20231018T200000
DTSTAMP:20260422T012218
CREATED:20230919T001635Z
LAST-MODIFIED:20230919T001857Z
UID:39774-1697655600-1697659200@www.kamloopsphotoarts.ca
SUMMARY:October 18\, 2023 - Images of the 2023 Bush Creek East Wildfire by Isobel Lamarche
DESCRIPTION:The 2023 Bush Creek East Wildfire burned over 43\,000 hectares of forest and destroyed many homes and businesses around Shuswap Lake and Adams Lake.  This photo presentation will show some of the devastation from this monster wildfire. \n\n\n\nThis presentation will be via Zoom Video Conferencing.
URL:https://www.kamloopsphotoarts.ca/event/october-18-2023-images-of-the-2023-bush-creek-east-wildfire-by-isobel-lamarche/
CATEGORIES:KPAC Event
ATTACH;FMTTYPE=image/jpeg:https://www.kamloopsphotoarts.ca/wp-content/uploads/2023/09/217A2339-1-copyrs.jpg
END:VEVENT
BEGIN:VEVENT
DTSTART;TZID=America/Vancouver:20231018T080000
DTEND;TZID=America/Vancouver:20231018T235900
DTSTAMP:20260422T012218
CREATED:20230923T141456Z
LAST-MODIFIED:20230923T141458Z
UID:39788-1697616000-1697673540@www.kamloopsphotoarts.ca
SUMMARY:October 18\, 2023 - CAPA Black & White  Competition Sub-Mission Deadline
DESCRIPTION:This is the deadline for photo submissions for the Club entry for the CAPA Black & White competition. This is one of two competitions the club will be entering this year. There are four categories for this competition – Architecture\, Dilapidated\, Landscape and Persons.  For complete details and photo naming and sizing requirements\, please go to the CAPA Canada website or copy and paste this link into your browser. \n\n\n\nhttps://capacanada.ca/capa-competitions/current-competitions-2/ \n\n\n\nSubmit your images to:  competitions@kamloopsphotoarts.ca
URL:https://www.kamloopsphotoarts.ca/event/october-18-2023-capa-black-white-competition-sub-mission-deadline/
CATEGORIES:KPAC Event
ATTACH;FMTTYPE=image/jpeg:https://www.kamloopsphotoarts.ca/wp-content/uploads/2021/09/CapaCanada-edited.jpg
END:VEVENT
BEGIN:VEVENT
DTSTART;TZID=America/Vancouver:20231014T100000
DTEND;TZID=America/Vancouver:20231014T140000
DTSTAMP:20260422T012218
CREATED:20230907T151058Z
LAST-MODIFIED:20230907T151059Z
UID:39756-1697277600-1697292000@www.kamloopsphotoarts.ca
SUMMARY:October 14\, 2023 - Photoshoot at McConnell Lake
DESCRIPTION:Members will meet at McConnell Lake Park which is located approximately 30 km from Kamloops on Lac le Jeune Road.  The day will begin with a Silent Auction/Giveaway of no longer needed KPAC computer hardware and accessories\, etc.  McConnell Lake Park is a natural wilderness area and offers great hiking trails and many photographic opportunities in various genres.  Wear layered clothing and bring water and lunch/snack.  This is a great opportunity to get together in person with your fellow KPAC members.  \n\n\n\nThis park is currently closed due to the Ross Moore wildfire but we are hopeful that it will be open by October.  If not\, an alternate location will be found.
URL:https://www.kamloopsphotoarts.ca/event/october-14-2023-photoshoot-at-mcconnell-lake/
CATEGORIES:KPAC Event
ATTACH;FMTTYPE=image/jpeg:https://www.kamloopsphotoarts.ca/wp-content/uploads/2023/09/rs.jpg
END:VEVENT
BEGIN:VEVENT
DTSTART;TZID=America/Vancouver:20230927T190000
DTEND;TZID=America/Vancouver:20230927T200000
DTSTAMP:20260422T012218
CREATED:20230907T145908Z
LAST-MODIFIED:20230907T150005Z
UID:39753-1695841200-1695844800@www.kamloopsphotoarts.ca
SUMMARY:September 27\, 2023 - Showcase: Riverside Park Summer Photoshoot Challenge
DESCRIPTION:The challenge is to take images in Riverside Park throughout the summer capturing anything that you find compelling\, literal or abstract.  Images must have been taken between June and September 2023.  Members who live outside Kamloops can take images from their local park.  \n\n\n\nMeeting will be via Zoom Video Conferencing
URL:https://www.kamloopsphotoarts.ca/event/september-27-2023-showcase-riverside-park-summer-photoshoot-challenge/
CATEGORIES:KPAC Event
ATTACH;FMTTYPE=image/jpeg:https://www.kamloopsphotoarts.ca/wp-content/uploads/2023/09/217A9470-1-copyrs.jpg
END:VEVENT
BEGIN:VEVENT
DTSTART;TZID=America/Vancouver:20230920T190000
DTEND;TZID=America/Vancouver:20230920T200000
DTSTAMP:20260422T012218
CREATED:20230906T193428Z
LAST-MODIFIED:20230906T193430Z
UID:39751-1695236400-1695240000@www.kamloopsphotoarts.ca
SUMMARY:September 20\, 2023 - How to Judge an Image by Dave Snider
DESCRIPTION:Dave Snider\, a Certified CAPA Judge and KPAC member will give a presentation on what judges are looking for and how they score images in competitions. He will provide examples to reinforce his points to help members evaluate their own images as well as others. \n\n\n\nThis presentation will be via Zoom Video Conferencing.
URL:https://www.kamloopsphotoarts.ca/event/september-20-2023-how-to-judge-an-image-by-dave-snider/
CATEGORIES:KPAC Event
ATTACH;FMTTYPE=image/jpeg:https://www.kamloopsphotoarts.ca/wp-content/uploads/2023/04/KPAC-Featured.jpeg
END:VEVENT
BEGIN:VEVENT
DTSTART;TZID=America/Vancouver:20230919T190000
DTEND;TZID=America/Vancouver:20230919T200000
DTSTAMP:20260422T012218
CREATED:20230919T000704Z
LAST-MODIFIED:20230919T000705Z
UID:39771-1695150000-1695153600@www.kamloopsphotoarts.ca
SUMMARY:September 19\, 2023 - Lightroom/Photoshop Shared Interest Group
DESCRIPTION:This session is open to any KPAC member who would like to improve their skills using Lightroom and Photoshop or for those who may be interested in learning how to use these software tools.  Dave Whiting has initiated this group but it will be up to the members to determine what the agenda and topics for future meetings will be.   \n\n\n\nThis meeting is by Zoom Video Conferencing.
URL:https://www.kamloopsphotoarts.ca/event/september-19-2023-lightroom-photoshop-shared-interest-group/
CATEGORIES:KPAC Event
ATTACH;FMTTYPE=image/jpeg:https://www.kamloopsphotoarts.ca/wp-content/uploads/2023/09/Learning.jpg
END:VEVENT
BEGIN:VEVENT
DTSTART;TZID=America/Vancouver:20230913T190000
DTEND;TZID=America/Vancouver:20230913T200000
DTSTAMP:20260422T012218
CREATED:20230906T191545Z
LAST-MODIFIED:20230907T152110Z
UID:39743-1694631600-1694635200@www.kamloopsphotoarts.ca
SUMMARY:September 13\, 2023 - Member Meet & Greet
DESCRIPTION:For the first meeting of the year\, we will ask members to introduce themselves with a very brief introduction perhaps mentioning your favourite genre of photography.  Dave Whiting will introduce the very first Shared Interest Group for KPAC members which will be starting up this month.  This will be followed by breakout rooms for you to share what programs\, photoshoots or workshops you would like from your club. This program will be presented via Zoom video conferencing. \n\n\n\nThis meeting will be presented via Zoom Video Conferencing.
URL:https://www.kamloopsphotoarts.ca/event/september-13-2023-member-meet-greet/
CATEGORIES:KPAC Event
ATTACH;FMTTYPE=image/jpeg:https://www.kamloopsphotoarts.ca/wp-content/uploads/2023/09/217A0548-1-copy-3rs.jpg
END:VEVENT
BEGIN:VEVENT
DTSTART;TZID=America/Vancouver:20230603T080000
DTEND;TZID=America/Vancouver:20230603T170000
DTSTAMP:20260422T012218
CREATED:20230421T002120Z
LAST-MODIFIED:20230421T002343Z
UID:39602-1685779200-1685811600@www.kamloopsphotoarts.ca
SUMMARY:June 3 - 4\, 2023 - KPAC Weekend Away to Summerland
DESCRIPTION:This is the time of year that club members can get together and enjoy a weekend of shooting outside of Kamloops. This years trip is to the Central Okanagan with stops in Lake Country\, Kelowna\, Summerland\, Keremeos\, Hedley and Princeton. The stops will include some fantastic locations with great photo opportunities. For full details\, please see the KPAC Newsletter to Members #16 sent out on April 20\, 2023 or contact Bryan Hunt at brianwhunt43@gmail.com
URL:https://www.kamloopsphotoarts.ca/event/june-3-4-2023-kpac-weekend-away-to-summerland/
CATEGORIES:KPAC Event
ATTACH;FMTTYPE=image/jpeg:https://www.kamloopsphotoarts.ca/wp-content/uploads/2023/04/50436835746_86b56b1e5c_c.jpg
END:VEVENT
BEGIN:VEVENT
DTSTART;TZID=America/Vancouver:20230531T190000
DTEND;TZID=America/Vancouver:20230531T200000
DTSTAMP:20260422T012218
CREATED:20230504T015640Z
LAST-MODIFIED:20230504T015641Z
UID:39658-1685559600-1685563200@www.kamloopsphotoarts.ca
SUMMARY:May 31\, 2023 - Selection of Images for Display at London Drugs
DESCRIPTION:This evening members will vote to select six images that will be printed and displayed at London Drugs for a period of three months.  A slide show of submitted images will be shown and voted on using the Zoom polls function.  Voting is anonymous. The meeting will be held via Zoom video conferencing.
URL:https://www.kamloopsphotoarts.ca/event/may-31-2023-selection-of-images-for-display-at-london-drugs/
CATEGORIES:KPAC Event
ATTACH;FMTTYPE=image/jpeg:https://www.kamloopsphotoarts.ca/wp-content/uploads/2021/09/Coyote-Rock-Lewis-Bob.jpg
END:VEVENT
BEGIN:VEVENT
DTSTART;TZID=America/Vancouver:20230524T080000
DTEND;TZID=America/Vancouver:20230524T235900
DTSTAMP:20260422T012218
CREATED:20230504T021155Z
LAST-MODIFIED:20230504T021205Z
UID:39661-1684915200-1684972740@www.kamloopsphotoarts.ca
SUMMARY:May 24\, 2023 - Submission Deadline for Image Selection for Display at London Drugs
DESCRIPTION:There will be no meeting tonight\, this is the deadline for image submission for selection for the London Drugs display. This is a collaboration between KPAC and London Drugs to showcase members photographs and printing/framing options available through London Drugs.  \n\n\n\nMembers can submit up to six images taken since May 2022 to Dave Whiting via email at dave.whiting@me.com Look back to your favourite images and get your submissions in.  This is a great opportunity for our members to show off their photographic skills and get some recognition within the community.
URL:https://www.kamloopsphotoarts.ca/event/may-24-2023-submission-deadline-for-image-selection-for-display-at-london-drugs/
CATEGORIES:KPAC Event
ATTACH;FMTTYPE=image/jpeg:https://www.kamloopsphotoarts.ca/wp-content/uploads/2023/03/Norm-Dougan-Interior-Forest-Condominium-1-of-1.jpg
END:VEVENT
BEGIN:VEVENT
DTSTART;TZID=America/Vancouver:20230517T190000
DTEND;TZID=America/Vancouver:20230517T200000
DTSTAMP:20260422T012218
CREATED:20230421T000652Z
LAST-MODIFIED:20230501T232424Z
UID:39599-1684350000-1684353600@www.kamloopsphotoarts.ca
SUMMARY:May 17\, 2023 - Showcase: Favourite Places & Events Around Kamloops
DESCRIPTION:Share images of your favourite places and events that you like to photograph in and around the Kamloops area. This session will be held via Zoom videoconferencing.
URL:https://www.kamloopsphotoarts.ca/event/may-17-2023-showcase-favourite-places-around-kamloops/
CATEGORIES:KPAC Event
ATTACH;FMTTYPE=image/jpeg:https://www.kamloopsphotoarts.ca/wp-content/uploads/2023/04/217A3109-Edit-3-scaled.jpg
END:VEVENT
BEGIN:VEVENT
DTSTART;TZID=America/Vancouver:20230510T190000
DTEND;TZID=America/Vancouver:20230510T200000
DTSTAMP:20260422T012218
CREATED:20230420T235318Z
LAST-MODIFIED:20230420T235320Z
UID:39595-1683745200-1683748800@www.kamloopsphotoarts.ca
SUMMARY:May 10\, 2023 - KPAC Annual General Meeting
DESCRIPTION:This meeting will decide on club direction\, scope of programming and leadership for the next year. While our club continues to thrive\, decisions must be confirmed by the entire membership. Please plan to attend this important club meeting. The meeting will be presented via Zoom video conferencing.
URL:https://www.kamloopsphotoarts.ca/event/may-10-2023-kpac-annual-general-meeting/
CATEGORIES:KPAC Event
ATTACH;FMTTYPE=image/jpeg:https://www.kamloopsphotoarts.ca/wp-content/uploads/2023/04/KPAC-Featured.jpeg
END:VEVENT
BEGIN:VEVENT
DTSTART;TZID=America/Vancouver:20230429T083000
DTEND;TZID=America/Vancouver:20230429T160000
DTSTAMP:20260422T012218
CREATED:20230315T235342Z
LAST-MODIFIED:20230315T235632Z
UID:39510-1682757000-1682784000@www.kamloopsphotoarts.ca
SUMMARY:April 29\, 2023 - Landscape Workshop with Viktoria Haack
DESCRIPTION:Registrants will meet at 8:30 at Cooney Bay and will spend the morning shooting images at this scenic location with views of Kamloops Lake\, Tranquille River\, Battle Bluff and the surrounding mountains.  Viktoria will do a demo and walk through on how to assess a location for photo options and create compelling compositions.  Viktoria will provide input and assistance to registrants.  \n\n\n\nThe afternoon session\, at 801 McGill Rd\, will focus on post processing.  Viktoria will demonstrate her post processing techniques and review what makes a compelling image. Members are referred to Newsletter #14 for complete details. \n\n\n\n \n\n\n\nIsobel Lamarche Photo
URL:https://www.kamloopsphotoarts.ca/event/april-29-2023-landscape-workshop-with-viktoria-hack/
CATEGORIES:KPAC Event
ATTACH;FMTTYPE=image/jpeg:https://www.kamloopsphotoarts.ca/wp-content/uploads/2023/03/IMG_3077-2-2-1-scaled.jpg
END:VEVENT
BEGIN:VEVENT
DTSTART;TZID=America/Vancouver:20230428T190000
DTEND;TZID=America/Vancouver:20230428T210000
DTSTAMP:20260422T012218
CREATED:20230315T234238Z
LAST-MODIFIED:20230315T235510Z
UID:39507-1682708400-1682715600@www.kamloopsphotoarts.ca
SUMMARY:April 28\, 2023 - Landscape Workshop with Viktoria Haack
DESCRIPTION:This will be a general session in which Viktoria will talk about her history and photographic vision and give an overview of compositional elements in photography. She will show examples of her work. The last 1/2 hour will be open for questions from members. This session will be presented via Zoom video conferencing. \n\n\n\nThis session is open to all KPAC members (those registered and those not registered for the workshop).
URL:https://www.kamloopsphotoarts.ca/event/april-28-2023-landscape-workshop-with-viktoria-hack/
CATEGORIES:KPAC Event
ATTACH;FMTTYPE=image/jpeg:https://www.kamloopsphotoarts.ca/wp-content/uploads/2023/03/IMG_3084-2-2-1-2-scaled.jpg
END:VEVENT
BEGIN:VEVENT
DTSTART;TZID=America/Vancouver:20230426T190000
DTEND;TZID=America/Vancouver:20230426T200000
DTSTAMP:20260422T012218
CREATED:20230215T015037Z
LAST-MODIFIED:20230215T015038Z
UID:39413-1682535600-1682539200@www.kamloopsphotoarts.ca
SUMMARY:April 26\, 2023 - Showcase: Forced Perspective
DESCRIPTION:To create perspective or depth in your photos you can shoot from a low angle\, look up at your subject\, get up high and look down\, frame your subject and use your foreground.  These are just a few techniques so get your creative juices flowing and have fun.  This meeting will be presented via Zoom video conferencing.
URL:https://www.kamloopsphotoarts.ca/event/april-26-2023-showcase-forced-perspective/
CATEGORIES:KPAC Event
ATTACH;FMTTYPE=image/jpeg:https://www.kamloopsphotoarts.ca/wp-content/uploads/2023/02/52492993338_88a31ed320_c.jpg
END:VEVENT
END:VCALENDAR