BEGIN:VCALENDAR
VERSION:2.0
PRODID:-//Kamloops Photo Arts - ECPv6.15.20//NONSGML v1.0//EN
CALSCALE:GREGORIAN
METHOD:PUBLISH
X-ORIGINAL-URL:https://www.kamloopsphotoarts.ca
X-WR-CALDESC:Events for Kamloops Photo Arts
REFRESH-INTERVAL;VALUE=DURATION:PT1H
X-Robots-Tag:noindex
X-PUBLISHED-TTL:PT1H
BEGIN:VTIMEZONE
TZID:America/Vancouver
BEGIN:DAYLIGHT
TZOFFSETFROM:-0800
TZOFFSETTO:-0700
TZNAME:PDT
DTSTART:20250309T100000
END:DAYLIGHT
BEGIN:STANDARD
TZOFFSETFROM:-0700
TZOFFSETTO:-0800
TZNAME:PST
DTSTART:20251102T090000
END:STANDARD
BEGIN:DAYLIGHT
TZOFFSETFROM:-0800
TZOFFSETTO:-0700
TZNAME:PDT
DTSTART:20260308T100000
END:DAYLIGHT
BEGIN:STANDARD
TZOFFSETFROM:-0700
TZOFFSETTO:-0800
TZNAME:PST
DTSTART:20261101T090000
END:STANDARD
BEGIN:DAYLIGHT
TZOFFSETFROM:-0800
TZOFFSETTO:-0700
TZNAME:PDT
DTSTART:20270314T100000
END:DAYLIGHT
BEGIN:STANDARD
TZOFFSETFROM:-0700
TZOFFSETTO:-0800
TZNAME:PST
DTSTART:20271107T090000
END:STANDARD
END:VTIMEZONE
BEGIN:VEVENT
DTSTART;TZID=America/Vancouver:20260321T130000
DTEND;TZID=America/Vancouver:20260321T150000
DTSTAMP:20260420T184550
CREATED:20260305T171638Z
LAST-MODIFIED:20260311T182831Z
UID:46016-1774098000-1774105200@www.kamloopsphotoarts.ca
SUMMARY:March 21\, 2026 - Photoshoot at Art Knapp Garden Centre
DESCRIPTION:Join fellow members for a photoshoot at Art Knapp Garden Centre located at 420 Nunavut Way\, Kamloops. There will be many indoor and outdoor photo opportunities. Art Knapp has a large selection of plants\, trees and tropicals\, garden tools/accessories\, giftware and ladies fashion and a Bistro. Members can practice their macro photography along with any other genre. \n\n\n\nFollowing the photoshoot\, there will be a social get together at 3:00pm at Mason’s Kitchen and Bar located at 1000 Clubhouse Drive in Sun Rivers. \n\n\n\nIn the week following the event\, please submit up to six of your favourite photos for posting to the website to: clubphotoevents@kamloopsphotoarts.ca
URL:https://www.kamloopsphotoarts.ca/event/march-21-2026-photoshoot-at-art-knapp-garden-centre/
CATEGORIES:KPAC Event
ATTACH;FMTTYPE=image/jpeg:https://www.kamloopsphotoarts.ca/wp-content/uploads/2026/03/Christine-Overland-Red-Glitter-Poinsettia-copy.jpg
END:VEVENT
BEGIN:VEVENT
DTSTART;TZID=America/Vancouver:20260325T190000
DTEND;TZID=America/Vancouver:20260325T200000
DTSTAMP:20260420T184550
CREATED:20260305T172218Z
LAST-MODIFIED:20260305T172231Z
UID:46018-1774465200-1774468800@www.kamloopsphotoarts.ca
SUMMARY:March 25\, 2026 -Showcase: Black and White
DESCRIPTION:Typically a somewhat dull month so go Black and White….anything goes! Perhaps try a long exposure?  \n\n\n\nMembers can submit up to six images by email to: showcase@kamloopsphotoarts.ca \n\n\n\n\n\n\n\nLyn Riley Photo
URL:https://www.kamloopsphotoarts.ca/event/march-25-2026-showcase-black-and-white/
CATEGORIES:KPAC Event
ATTACH;FMTTYPE=image/jpeg:https://www.kamloopsphotoarts.ca/wp-content/uploads/2026/03/7March-Black-and-White.jpg
END:VEVENT
BEGIN:VEVENT
DTSTART;TZID=America/Vancouver:20260407T190000
DTEND;TZID=America/Vancouver:20260407T200000
DTSTAMP:20260420T184550
CREATED:20260305T171140Z
LAST-MODIFIED:20260305T171149Z
UID:46014-1775588400-1775592000@www.kamloopsphotoarts.ca
SUMMARY:April 7\, 2026 - Deadline for Submission of Images for CAPA Competition Canada My Country  & KPAC Leadership Committee Meeting
DESCRIPTION:Members can submit up to two images by midnight on this date for the CAPA Competition – Canada My Country. Submit your images by email to: competitions@kamloopsphotoarts.ca View the CAPA website for competition details here \n\n\n\nThis is also the date for the regular meeting of the KPAC Leadership Committee. Primary function of this meeting is to prepare for the Annual General Meeting as well as finalize any program planning details. This meeting is via Zoom video conferencing.
URL:https://www.kamloopsphotoarts.ca/event/april-7-2026-deadline-for-submission-of-images-for-capa-competition-canada-my-country-kpac-leadership-committee-meeting/
CATEGORIES:KPAC Event
ATTACH;FMTTYPE=image/jpeg:https://www.kamloopsphotoarts.ca/wp-content/uploads/2023/12/photos-images-pictures-ss-1920.jpg
END:VEVENT
BEGIN:VEVENT
DTSTART;TZID=America/Vancouver:20260415T190000
DTEND;TZID=America/Vancouver:20260415T210000
DTSTAMP:20260420T184550
CREATED:20260322T141908Z
LAST-MODIFIED:20260322T141921Z
UID:46040-1776279600-1776286800@www.kamloopsphotoarts.ca
SUMMARY:April 15\, 2026 - Image Selection Night for CAPA Competition and Slideshow of Iceland Travels by Janice Rutherford
DESCRIPTION:Members will judge the image submissions for the club CAPA Competition – Canada My Country. This will be followed by a slideshow by Janice Rutherford of her recent adventures in Iceland. \n\n\n\nThis meeting is via Zoom video conferencing.
URL:https://www.kamloopsphotoarts.ca/event/april-15-2026-image-selection-night-for-capa-competition-and-slideshow-of-iceland-travels-by-janice-rutherford/
CATEGORIES:KPAC Event
ATTACH;FMTTYPE=image/jpeg:https://www.kamloopsphotoarts.ca/wp-content/uploads/2021/09/CapaCanada-edited.jpg
END:VEVENT
BEGIN:VEVENT
DTSTART;TZID=America/Vancouver:20260418T060000
DTEND;TZID=America/Vancouver:20260418T130000
DTSTAMP:20260420T184550
CREATED:20260412T161732Z
LAST-MODIFIED:20260412T161745Z
UID:46200-1776492000-1776517200@www.kamloopsphotoarts.ca
SUMMARY:April 18\, 2026 - Wildlife Shared Interest Group Sandhill Crane Photoshoot
DESCRIPTION:Members of the KPAC Wildlife Shared Interest Group will be travelling to the Douglas Lake Plateau for a photoshoot of the Sandhill Cranes who stop over in this area during their spring migration.  \n\n\n\nFurther details of this event will be emailed to members of the group. \n\n\n\n\n\n\n\nIsobel Lamarche Photo
URL:https://www.kamloopsphotoarts.ca/event/april-18-2026-wildlife-shared-interest-group-sandhill-crane-photoshoot/
CATEGORIES:KPAC Event
ATTACH;FMTTYPE=image/jpeg:https://www.kamloopsphotoarts.ca/wp-content/uploads/2026/04/55198094748_263678e91a_c.jpg
END:VEVENT
BEGIN:VEVENT
DTSTART;TZID=America/Vancouver:20260421T190000
DTEND;TZID=America/Vancouver:20260421T203000
DTSTAMP:20260420T184550
CREATED:20260322T152707Z
LAST-MODIFIED:20260323T131231Z
UID:46042-1776798000-1776803400@www.kamloopsphotoarts.ca
SUMMARY:April 21\, 2026 - Lightroom/Photoshop Shared Interest Group
DESCRIPTION:Members are asked to prepare three different crop options on one or two images of their choice and be prepared to discuss which option they favour and why. All members are welcome; feel free to join in even if you don’t choose to share an image. \n\n\n\nA week before the meeting\, please email your cropped images plus the original uncropped version to pryce@telus.net who will set up a slideshow to share the images at the meeting. \n\n\n\nThis meeting is via Zoom video conferencing. \n\n\n\n\n\n\n\nIsobel Lamarche Photo
URL:https://www.kamloopsphotoarts.ca/event/april-21-2026-lightroom-photoshop-shared-interest-group/
CATEGORIES:KPAC Event
ATTACH;FMTTYPE=image/jpeg:https://www.kamloopsphotoarts.ca/wp-content/uploads/2026/03/sig-copy.jpg
END:VEVENT
BEGIN:VEVENT
DTSTART;TZID=America/Vancouver:20260425T100000
DTEND;TZID=America/Vancouver:20260425T120000
DTSTAMP:20260420T184550
CREATED:20260325T151454Z
LAST-MODIFIED:20260325T151506Z
UID:46049-1777111200-1777118400@www.kamloopsphotoarts.ca
SUMMARY:April 25\, 2026 - Birding Photoshoot at Dufferin Wetlands
DESCRIPTION:Please join us for a photoshoot at Dufferin Wetlands located at 1840 Hillside Drive. Dave Whiting will be giving a short educational session on what birds/waterfowl you might see and tips on how to photograph them. There is a viewing platform at this location. After sometime photographing at this site\, members will relocate to the Pineview Ponds at 1925 Hugh Allen Drive. This location is an eBird hotspot and features an easy hiking trail around the pond.  \n\n\n\nCoffee and doughnuts will be provided. \n\n\n\nIn the week following the event\, please submit up to six of your favourite photos for posting to the website to: clubphotoevents@kamloopsphotoarts.ca \n\n\n\n\n\n\n\nIsobel Lamarche Photo
URL:https://www.kamloopsphotoarts.ca/event/april-25-2026-birding-photoshoot-at-dufferin-wetlands/
CATEGORIES:KPAC Event
ATTACH;FMTTYPE=image/jpeg:https://www.kamloopsphotoarts.ca/wp-content/uploads/2026/03/52040146238_1e4a002440_c.jpg
END:VEVENT
BEGIN:VEVENT
DTSTART;TZID=America/Vancouver:20260426T000000
DTEND;TZID=America/Vancouver:20260426T235900
DTSTAMP:20260420T184550
CREATED:20260325T153910Z
LAST-MODIFIED:20260325T153919Z
UID:46052-1777161600-1777247940@www.kamloopsphotoarts.ca
SUMMARY:April 26\, 2026 - Deadline for Image Submissions for the London Drugs Display
DESCRIPTION:No meeting on this date\, but… \n\n\n\nWe’re excited to announce our 4th Annual Photo Competition in collaboration with London Drugs Photolab\, offering an opportunity to have your work professionally printed and displayed! \n\n\n\n Submission Details:\n\n\n\nCategories: \n\n\n\n\nPlants and Critters – Nature’s small wonders\n\n\n\nOpen – Anything goes!\n\n\n\nLandscape – Breathtaking scenery\n\n\n\nPeople – Portraits\, candid\, or storytelling moments\n\n\n\nMan Made – Architecture\, industry\, or human impact\n\n\n\nBlack and White – Monochrome magic\n\n\n\n\n Submission Deadline: Midnight\, April 26 \n\n\n\n How to Submit: Send your entries to: londondrugs@kamloopsphotoarts.ca \n\n\n\n One entry per category  \n\n\n\n File Naming Format: \n\n\n\n\nRename your files as follows:Your Name-LD Category-Title.jpg(Example: Jane Doe-LD Landscape-Mountain Sunset.jpg)\n\n\n\nResize them the same as for all club photo submissions (eg Showcase)\n\n\n\n\n\n\n\n\nIsobel Lamarche Photo
URL:https://www.kamloopsphotoarts.ca/event/april-26-2026-deadline-for-image-submissions-for-the-london-drugs-display/
CATEGORIES:KPAC Event
ATTACH;FMTTYPE=image/jpeg:https://www.kamloopsphotoarts.ca/wp-content/uploads/2026/03/IMG_2218-scaled.jpg
END:VEVENT
BEGIN:VEVENT
DTSTART;TZID=America/Vancouver:20260429T190000
DTEND;TZID=America/Vancouver:20260429T210000
DTSTAMP:20260420T184550
CREATED:20260325T154455Z
LAST-MODIFIED:20260325T154506Z
UID:46055-1777489200-1777496400@www.kamloopsphotoarts.ca
SUMMARY:April 29\, 2026 - Showcase: Our Amazing Planet
DESCRIPTION:April 22\, 2026 is Earth Day so let’s get out and record the world around us\, after all we live in Beautiful BC.  \n\n\n\nThis meeting is via Zoom video conferencing. \n\n\n\n\n\n\n\nLyn Riley Photo
URL:https://www.kamloopsphotoarts.ca/event/april-29-2026-showcase-our-amazing-planet/
CATEGORIES:KPAC Event
ATTACH;FMTTYPE=image/jpeg:https://www.kamloopsphotoarts.ca/wp-content/uploads/2026/03/8April-AmazingPlanet.jpg
END:VEVENT
BEGIN:VEVENT
DTSTART;TZID=America/Vancouver:20260508T060000
DTEND;TZID=America/Vancouver:20260508T060000
DTSTAMP:20260420T184550
CREATED:20260412T163136Z
LAST-MODIFIED:20260412T163144Z
UID:46203-1778220000-1778220000@www.kamloopsphotoarts.ca
SUMMARY:May 8\, 2026 - BC/Yukon Inter-club Speaker Manpreet Sokhi
DESCRIPTION:Award-winning photographer Manpreet Sokhi will take youon a journey through Central India to photograph one of themost iconic and elusive animals—the Bengal tiger. He willshare the adventure and challenges of working in the field\,along with practical editing tips to refine wildlife images andbring out their full impact. \n\n\n\nRegistration details were sent out to members via email.
URL:https://www.kamloopsphotoarts.ca/event/may-8-2026-bc-yukon-inter-club-speaker-manpreet-sokhi/
CATEGORIES:KPAC Event
ATTACH;FMTTYPE=image/jpeg:https://www.kamloopsphotoarts.ca/wp-content/uploads/2020/11/Logo-PZ-Series-of-4.jpeg
END:VEVENT
BEGIN:VEVENT
DTSTART;TZID=America/Vancouver:20260509T183000
DTEND;TZID=America/Vancouver:20260509T210000
DTSTAMP:20260420T184550
CREATED:20260420T132937Z
LAST-MODIFIED:20260420T132948Z
UID:46213-1778351400-1778360400@www.kamloopsphotoarts.ca
SUMMARY:May 9\, 2026 - Photoshoot Of Cherry Creek Canadians
DESCRIPTION:Yvonne Hillsden from our club along with her husband Jim have offered to have us come out to their property to photograph their magnificent Canadian Horses. Jim and Yvonne have been involved in breeding the Canadian Horse for over 20 years and are well known for producing these athletic versatile horses. Their property also offers beautiful views of the landscape to photograph. \n\n\n\nYvonne has provided the following times from Photopills for May 9th if you’d like to take advantage of the tips from our in person meeting with Candice on how to photograph horses. \n\n\n\nGolden Hour 7:48-8:59 \n\n\n\nSunset 8:35 pm \n\n\n\nBlue Hour 8:59-9:15 \n\n\n\nLocation: 5089 Trans Canada Hwy West – approximately 10-15 min west on Trans Canada Hwy from Kamloops Costco. For Yvonne’s very specific directions\, Click Here \n\n\n\nYvonne has also provided some Equine Photography tips for you to review prior to our visit. For her tips\, Click Here \n\n\n\nYou must wear closed toed shoes around the horses.  \n\n\n\nYvonne Hillsden Photo
URL:https://www.kamloopsphotoarts.ca/event/may-9-2026-photoshoot-of-cherry-creek-canadians/
CATEGORIES:KPAC Event
ATTACH;FMTTYPE=image/jpeg:https://www.kamloopsphotoarts.ca/wp-content/uploads/2026/04/Screenshot-2026-04-20-at-6.23.22-AM-copy.jpg
END:VEVENT
BEGIN:VEVENT
DTSTART;TZID=America/Vancouver:20260513T190000
DTEND;TZID=America/Vancouver:20260513T210000
DTSTAMP:20260420T184550
CREATED:20260420T141548Z
LAST-MODIFIED:20260420T141818Z
UID:46222-1778698800-1778706000@www.kamloopsphotoarts.ca
SUMMARY:May 13\, 2026 - KPAC Annual General Meeting & Image Selection Night for London Drugs Display
DESCRIPTION:The KPAC Annual General Meeting is required to fulfill the statutory requirements under the BC Societies Act and includes election of officers for next year and presentation of informational reports including financial statements. Supporting documents will be emailed directly to members at  least two weeks prior to the meeting. \n\n\n\nFollowing the AGM\, members will select six images that will be printed\, framed and displayed at London Drugs in the Photo Department. A slide show of submitted images will be shown and members will select by choosing their “favourites” as opposed to judging and scoring as done for competitions. No choosing your own image as a favourite. A photographer can only win in one category. \n\n\n\nThere are six categories: People\, Landscape\, Plants and Critters\, Black and White\, Man Made and Open. If your image is selected\, you will be notified with instructions on how to prepare your image for printing. Good luck to all of our members. \n\n\n\nThis meeting is via Zoom video conferencing.
URL:https://www.kamloopsphotoarts.ca/event/may-13-2026-kpac-annual-general-meeting-image-selection-night-for-london-drugs-display/
CATEGORIES:KPAC Event
ATTACH;FMTTYPE=image/avif:https://www.kamloopsphotoarts.ca/wp-content/uploads/2025/05/realistic-wooden-brown-judge-gavel_88138-139.jpg.avif
END:VEVENT
BEGIN:VEVENT
DTSTART;TZID=America/Vancouver:20260527T190000
DTEND;TZID=America/Vancouver:20260527T210000
DTSTAMP:20260420T184550
CREATED:20260420T142521Z
LAST-MODIFIED:20260420T142533Z
UID:46227-1779908400-1779915600@www.kamloopsphotoarts.ca
SUMMARY:May 27\, 2026 - Showcase: New Beginnings
DESCRIPTION:Babies\, birdies\, and puppies or how about new construction\, crafts\, budding vegetation and gardens.  Think roads and doorways as these can lead to new opportunities or beginnings. We look forward to all members sharing their interpretation of the theme. \n\n\n\nThis meeting is via Zoom video conferencing. \n\n\n\n\n\n\n\nLyn Riley Photo
URL:https://www.kamloopsphotoarts.ca/event/may-27-2026-showcase-new-beginnings/
CATEGORIES:KPAC Event
ATTACH;FMTTYPE=image/jpeg:https://www.kamloopsphotoarts.ca/wp-content/uploads/2026/04/9May-New-Beginnings.jpg
END:VEVENT
BEGIN:VEVENT
DTSTART;TZID=America/Vancouver:20260605T183000
DTEND;TZID=America/Vancouver:20260605T210000
DTSTAMP:20260420T184550
CREATED:20260216T234833Z
LAST-MODIFIED:20260403T143359Z
UID:45888-1780684200-1780693200@www.kamloopsphotoarts.ca
SUMMARY:June 5\, 2026 - BC/Yukon Inter-Club Speaker - Larry Louie-Rescheduled from March
DESCRIPTION:Internationally recognized documentary photographer Dr.Larry Louie will share his powerful humanitarian work fromBangladesh\, Nepal\, and the Philippines\, capturing theresilience of communities facing immense challenges. Hewill also present a preview of his latest project—environmental portraits of people in Edmonton\, each with acompelling human story. \n\n\n\nThis event is live streamed via You Tube. Members must register for this event.
URL:https://www.kamloopsphotoarts.ca/event/march-27-2026-bc-yukon-inter-club-speaker-larry-louie/
CATEGORIES:KPAC Event
ATTACH;FMTTYPE=image/jpeg:https://www.kamloopsphotoarts.ca/wp-content/uploads/2026/02/Larry-Louie-scaled.jpg
END:VEVENT
END:VCALENDAR