BEGIN:VCALENDAR
VERSION:2.0
PRODID:-//Kamloops Photo Arts - ECPv6.15.20//NONSGML v1.0//EN
CALSCALE:GREGORIAN
METHOD:PUBLISH
X-WR-CALNAME:Kamloops Photo Arts
X-ORIGINAL-URL:https://www.kamloopsphotoarts.ca
X-WR-CALDESC:Events for Kamloops Photo Arts
REFRESH-INTERVAL;VALUE=DURATION:PT1H
X-Robots-Tag:noindex
X-PUBLISHED-TTL:PT1H
BEGIN:VTIMEZONE
TZID:America/Vancouver
BEGIN:DAYLIGHT
TZOFFSETFROM:-0800
TZOFFSETTO:-0700
TZNAME:PDT
DTSTART:20220313T100000
END:DAYLIGHT
BEGIN:STANDARD
TZOFFSETFROM:-0700
TZOFFSETTO:-0800
TZNAME:PST
DTSTART:20221106T090000
END:STANDARD
BEGIN:DAYLIGHT
TZOFFSETFROM:-0800
TZOFFSETTO:-0700
TZNAME:PDT
DTSTART:20230312T100000
END:DAYLIGHT
BEGIN:STANDARD
TZOFFSETFROM:-0700
TZOFFSETTO:-0800
TZNAME:PST
DTSTART:20231105T090000
END:STANDARD
BEGIN:DAYLIGHT
TZOFFSETFROM:-0800
TZOFFSETTO:-0700
TZNAME:PDT
DTSTART:20240310T100000
END:DAYLIGHT
BEGIN:STANDARD
TZOFFSETFROM:-0700
TZOFFSETTO:-0800
TZNAME:PST
DTSTART:20241103T090000
END:STANDARD
END:VTIMEZONE
BEGIN:VEVENT
DTSTART;TZID=America/Vancouver:20230913T190000
DTEND;TZID=America/Vancouver:20230913T200000
DTSTAMP:20260422T011909
CREATED:20230906T191545Z
LAST-MODIFIED:20230907T152110Z
UID:39743-1694631600-1694635200@www.kamloopsphotoarts.ca
SUMMARY:September 13\, 2023 - Member Meet & Greet
DESCRIPTION:For the first meeting of the year\, we will ask members to introduce themselves with a very brief introduction perhaps mentioning your favourite genre of photography.  Dave Whiting will introduce the very first Shared Interest Group for KPAC members which will be starting up this month.  This will be followed by breakout rooms for you to share what programs\, photoshoots or workshops you would like from your club. This program will be presented via Zoom video conferencing. \n\n\n\nThis meeting will be presented via Zoom Video Conferencing.
URL:https://www.kamloopsphotoarts.ca/event/september-13-2023-member-meet-greet/
CATEGORIES:KPAC Event
ATTACH;FMTTYPE=image/jpeg:https://www.kamloopsphotoarts.ca/wp-content/uploads/2023/09/217A0548-1-copy-3rs.jpg
END:VEVENT
BEGIN:VEVENT
DTSTART;TZID=America/Vancouver:20230919T190000
DTEND;TZID=America/Vancouver:20230919T200000
DTSTAMP:20260422T011909
CREATED:20230919T000704Z
LAST-MODIFIED:20230919T000705Z
UID:39771-1695150000-1695153600@www.kamloopsphotoarts.ca
SUMMARY:September 19\, 2023 - Lightroom/Photoshop Shared Interest Group
DESCRIPTION:This session is open to any KPAC member who would like to improve their skills using Lightroom and Photoshop or for those who may be interested in learning how to use these software tools.  Dave Whiting has initiated this group but it will be up to the members to determine what the agenda and topics for future meetings will be.   \n\n\n\nThis meeting is by Zoom Video Conferencing.
URL:https://www.kamloopsphotoarts.ca/event/september-19-2023-lightroom-photoshop-shared-interest-group/
CATEGORIES:KPAC Event
ATTACH;FMTTYPE=image/jpeg:https://www.kamloopsphotoarts.ca/wp-content/uploads/2023/09/Learning.jpg
END:VEVENT
BEGIN:VEVENT
DTSTART;TZID=America/Vancouver:20230920T190000
DTEND;TZID=America/Vancouver:20230920T200000
DTSTAMP:20260422T011909
CREATED:20230906T193428Z
LAST-MODIFIED:20230906T193430Z
UID:39751-1695236400-1695240000@www.kamloopsphotoarts.ca
SUMMARY:September 20\, 2023 - How to Judge an Image by Dave Snider
DESCRIPTION:Dave Snider\, a Certified CAPA Judge and KPAC member will give a presentation on what judges are looking for and how they score images in competitions. He will provide examples to reinforce his points to help members evaluate their own images as well as others. \n\n\n\nThis presentation will be via Zoom Video Conferencing.
URL:https://www.kamloopsphotoarts.ca/event/september-20-2023-how-to-judge-an-image-by-dave-snider/
CATEGORIES:KPAC Event
ATTACH;FMTTYPE=image/jpeg:https://www.kamloopsphotoarts.ca/wp-content/uploads/2023/04/KPAC-Featured.jpeg
END:VEVENT
BEGIN:VEVENT
DTSTART;TZID=America/Vancouver:20230927T190000
DTEND;TZID=America/Vancouver:20230927T200000
DTSTAMP:20260422T011909
CREATED:20230907T145908Z
LAST-MODIFIED:20230907T150005Z
UID:39753-1695841200-1695844800@www.kamloopsphotoarts.ca
SUMMARY:September 27\, 2023 - Showcase: Riverside Park Summer Photoshoot Challenge
DESCRIPTION:The challenge is to take images in Riverside Park throughout the summer capturing anything that you find compelling\, literal or abstract.  Images must have been taken between June and September 2023.  Members who live outside Kamloops can take images from their local park.  \n\n\n\nMeeting will be via Zoom Video Conferencing
URL:https://www.kamloopsphotoarts.ca/event/september-27-2023-showcase-riverside-park-summer-photoshoot-challenge/
CATEGORIES:KPAC Event
ATTACH;FMTTYPE=image/jpeg:https://www.kamloopsphotoarts.ca/wp-content/uploads/2023/09/217A9470-1-copyrs.jpg
END:VEVENT
END:VCALENDAR