BEGIN:VCALENDAR
VERSION:2.0
PRODID:-//Kamloops Photo Arts - ECPv6.15.20//NONSGML v1.0//EN
CALSCALE:GREGORIAN
METHOD:PUBLISH
X-ORIGINAL-URL:https://www.kamloopsphotoarts.ca
X-WR-CALDESC:Events for Kamloops Photo Arts
REFRESH-INTERVAL;VALUE=DURATION:PT1H
X-Robots-Tag:noindex
X-PUBLISHED-TTL:PT1H
BEGIN:VTIMEZONE
TZID:America/Vancouver
BEGIN:DAYLIGHT
TZOFFSETFROM:-0800
TZOFFSETTO:-0700
TZNAME:PDT
DTSTART:20220313T100000
END:DAYLIGHT
BEGIN:STANDARD
TZOFFSETFROM:-0700
TZOFFSETTO:-0800
TZNAME:PST
DTSTART:20221106T090000
END:STANDARD
BEGIN:DAYLIGHT
TZOFFSETFROM:-0800
TZOFFSETTO:-0700
TZNAME:PDT
DTSTART:20230312T100000
END:DAYLIGHT
BEGIN:STANDARD
TZOFFSETFROM:-0700
TZOFFSETTO:-0800
TZNAME:PST
DTSTART:20231105T090000
END:STANDARD
BEGIN:DAYLIGHT
TZOFFSETFROM:-0800
TZOFFSETTO:-0700
TZNAME:PDT
DTSTART:20240310T100000
END:DAYLIGHT
BEGIN:STANDARD
TZOFFSETFROM:-0700
TZOFFSETTO:-0800
TZNAME:PST
DTSTART:20241103T090000
END:STANDARD
END:VTIMEZONE
BEGIN:VEVENT
DTSTART;TZID=America/Vancouver:20231101T190000
DTEND;TZID=America/Vancouver:20231101T200000
DTSTAMP:20260421T222147
CREATED:20230923T142112Z
LAST-MODIFIED:20230923T142316Z
UID:39790-1698865200-1698868800@www.kamloopsphotoarts.ca
SUMMARY:November 1\, 2023 - CAPA Black & White Competition Image Selection Night
DESCRIPTION:Meeting via Zoom video conferencing. Tonight KPAC members select entries for the CAPA 2023 Black & White competition. Please brush up on your photo judging skills. We will be using the Zoom polling function for scoring.
URL:https://www.kamloopsphotoarts.ca/event/november-1-2023-capa-black-white-competition-image-selection-night/
CATEGORIES:KPAC Event
ATTACH;FMTTYPE=image/jpeg:https://www.kamloopsphotoarts.ca/wp-content/uploads/2021/09/CapaCanada-edited.jpg
END:VEVENT
BEGIN:VEVENT
DTSTART;TZID=America/Vancouver:20231117T183000
DTEND;TZID=America/Vancouver:20231117T210000
DTSTAMP:20260421T222147
CREATED:20231025T223909Z
LAST-MODIFIED:20231108T195446Z
UID:39887-1700245800-1700254800@www.kamloopsphotoarts.ca
SUMMARY:November 17\, 2023 - BC/Yukon Inter-club Speaker Series featuring John Barclay
DESCRIPTION:John Barclay – Through the Lens of Love.  This event is moderated by the North Shore Photographic Society and is open to all KPAC members. For further information and registration\, click here
URL:https://www.kamloopsphotoarts.ca/event/november-17-2023-bc-yukon-inter-club-speaker-series-featuring-john-barclay/
ATTACH;FMTTYPE=image/jpeg:https://www.kamloopsphotoarts.ca/wp-content/uploads/2022/10/Logo-for-Inter-club-Speaker-Series-WEB-3.jpeg
END:VEVENT
BEGIN:VEVENT
DTSTART;TZID=America/Vancouver:20231121T190000
DTEND;TZID=America/Vancouver:20231121T203000
DTSTAMP:20260421T222147
CREATED:20231018T182008Z
LAST-MODIFIED:20231018T182235Z
UID:39871-1700593200-1700598600@www.kamloopsphotoarts.ca
SUMMARY:November 21\, 2023 - LightRoom/PhotoShop Shared Interest Group
DESCRIPTION:This session is open to any KPAC member who would like to improve their skills using Lightroom and Photoshop or for those who may be interested in learning how to use these software tools.  Members learn from members. Dave Whiting has initiated this group but it will be up to the members to determine what the agenda and topics for future meetings will be. Members are free to join/leave the group at any time. \n\n\n\nThis meeting is by Zoom Video Conferencing.
URL:https://www.kamloopsphotoarts.ca/event/november-21-2023-lightroom-photoshop-shared-interest-group/
CATEGORIES:KPAC Event
ATTACH;FMTTYPE=image/jpeg:https://www.kamloopsphotoarts.ca/wp-content/uploads/2023/09/Learning.jpg
END:VEVENT
BEGIN:VEVENT
DTSTART;TZID=America/Vancouver:20231126T133000
DTEND;TZID=America/Vancouver:20231126T180000
DTSTAMP:20260421T222147
CREATED:20231108T173421Z
LAST-MODIFIED:20231108T173422Z
UID:39985-1701005400-1701021600@www.kamloopsphotoarts.ca
SUMMARY:November 26\, 2023 - Member Get Together and Kamloops Santa Claus Parade Photoshoot
DESCRIPTION:Members are invited to meet at 1:30pm at the Frick & Frack Restaurant at 577 Victoria Street for a no host late lunch/appetizers/beverages and get together with your fellow members.  Following the mixer\, members will have an opportunity to photograph the Santa Claus Parade which begins at 4:00pm and travels along Victoria Street from 2nd Avenue to 6th Avenue. Members can also view and shoot pics from 3:00 – 4:00pm in the assembly areas which are on St. Paul and Battle Streets between 2nd and 4th Avenues and on 3rd Avenue between Columbia and  St. Paul Streets. A great start to the holiday festivities and a fun opportunity to get out shooting with your fellow club members.
URL:https://www.kamloopsphotoarts.ca/event/november-26-2023-member-get-together-and-kamloops-santa-claus-parade-photoshoot/
CATEGORIES:KPAC Event
ATTACH;FMTTYPE=image/jpeg:https://www.kamloopsphotoarts.ca/wp-content/uploads/2023/11/52529260606_5c38642741_c.jpg
END:VEVENT
BEGIN:VEVENT
DTSTART;TZID=America/Vancouver:20231129T190000
DTEND;TZID=America/Vancouver:20231129T200000
DTSTAMP:20260421T222147
CREATED:20231026T033054Z
LAST-MODIFIED:20231026T033056Z
UID:39895-1701284400-1701288000@www.kamloopsphotoarts.ca
SUMMARY:November 29\, 2023 - Showcase: Inclement Weather
DESCRIPTION:For this Showcase\, think rain\, snow\, wind\, sunshine – anything goes here. Watch the weather and get creative.  This meeting will be held via Zoom Video Conferencing.
URL:https://www.kamloopsphotoarts.ca/event/november-29-2023-showcase-inclement-weather/
CATEGORIES:KPAC Event
ATTACH;FMTTYPE=image/jpeg:https://www.kamloopsphotoarts.ca/wp-content/uploads/2023/10/52565151861_2549fb222a_c.jpg
END:VEVENT
END:VCALENDAR