BEGIN:VCALENDAR
VERSION:2.0
PRODID:-//Kamloops Photo Arts - ECPv6.15.20//NONSGML v1.0//EN
CALSCALE:GREGORIAN
METHOD:PUBLISH
X-WR-CALNAME:Kamloops Photo Arts
X-ORIGINAL-URL:https://www.kamloopsphotoarts.ca
X-WR-CALDESC:Events for Kamloops Photo Arts
REFRESH-INTERVAL;VALUE=DURATION:PT1H
X-Robots-Tag:noindex
X-PUBLISHED-TTL:PT1H
BEGIN:VTIMEZONE
TZID:America/Vancouver
BEGIN:DAYLIGHT
TZOFFSETFROM:-0800
TZOFFSETTO:-0700
TZNAME:PDT
DTSTART:20220313T100000
END:DAYLIGHT
BEGIN:STANDARD
TZOFFSETFROM:-0700
TZOFFSETTO:-0800
TZNAME:PST
DTSTART:20221106T090000
END:STANDARD
BEGIN:DAYLIGHT
TZOFFSETFROM:-0800
TZOFFSETTO:-0700
TZNAME:PDT
DTSTART:20230312T100000
END:DAYLIGHT
BEGIN:STANDARD
TZOFFSETFROM:-0700
TZOFFSETTO:-0800
TZNAME:PST
DTSTART:20231105T090000
END:STANDARD
BEGIN:DAYLIGHT
TZOFFSETFROM:-0800
TZOFFSETTO:-0700
TZNAME:PDT
DTSTART:20240310T100000
END:DAYLIGHT
BEGIN:STANDARD
TZOFFSETFROM:-0700
TZOFFSETTO:-0800
TZNAME:PST
DTSTART:20241103T090000
END:STANDARD
END:VTIMEZONE
BEGIN:VEVENT
DTSTART;TZID=America/Vancouver:20231202T090000
DTEND;TZID=America/Vancouver:20231202T170000
DTSTAMP:20260421T204253
CREATED:20231108T185246Z
LAST-MODIFIED:20231108T200910Z
UID:39988-1701507600-1701536400@www.kamloopsphotoarts.ca
SUMMARY:December 2\, 2023 - CAPA Photo Judging Course
DESCRIPTION:The Shuswap Photo Arts Club in Salmon Arm is hosting a CAPA Judging course which members are invited to participate in.  The program runs from 9:00am – 5:00pm and will be held at the 5th Avenue Senior Centre at 170 5th Avenue SE in Salmon Arm.  For full details and registration click here                            \n\n\n\nSeveral members of KPAC are attending and carpooling.  If you are interested in carpooling\, contact Dave Whiting at dave.whiting@me.com
URL:https://www.kamloopsphotoarts.ca/event/december-2-2023-capa-photo-judging-course/
ATTACH;FMTTYPE=image/jpeg:https://www.kamloopsphotoarts.ca/wp-content/uploads/2021/09/CapaCanada-edited.jpg
END:VEVENT
BEGIN:VEVENT
DTSTART;TZID=America/Vancouver:20231202T153000
DTEND;TZID=America/Vancouver:20231202T173000
DTSTAMP:20260421T204253
CREATED:20231108T190845Z
LAST-MODIFIED:20231108T190847Z
UID:39997-1701531000-1701538200@www.kamloopsphotoarts.ca
SUMMARY:December 2\, 2023 - Downtown Kamloops Christmas Light Photoshoot
DESCRIPTION:Members will meet at Kamloops Old Courthouse on 7 Seymour Street W at 3:30pm to shoot Christmas Light displays at the Old Courthouse\, City Hall\, St. Andrew’s on the Square and lights around Sandman Centre as well as other locations downtown. Members are encouraged to buddy up and look out for each other to ensure everyone feels safe during the photoshoot. Happy Holidays!
URL:https://www.kamloopsphotoarts.ca/event/december-2-2023-downtown-kamloops-christmas-light-photoshoot/
CATEGORIES:KPAC Event
ATTACH;FMTTYPE=image/jpeg:https://www.kamloopsphotoarts.ca/wp-content/uploads/2023/11/46409671251_d8c5a0a1bc_c.jpg
END:VEVENT
BEGIN:VEVENT
DTSTART;TZID=America/Vancouver:20231213T190000
DTEND;TZID=America/Vancouver:20231213T200000
DTSTAMP:20260421T204253
CREATED:20231026T035146Z
LAST-MODIFIED:20231026T035148Z
UID:39898-1702494000-1702497600@www.kamloopsphotoarts.ca
SUMMARY:December 13\, 2023 - Showcase: Emotion
DESCRIPTION:For this showcase\, members can submit any image that emotes a feeling in your viewer. They tell a story and move your audience in a myriad of ways – happiness\, sadness\, sorrow\, despair\, love\, etc. The shot can be of people\, events\, places\, etc.  This meeting will be via Zoom Video Conferencing.
URL:https://www.kamloopsphotoarts.ca/event/december-13-2023-showcase-emotion/
CATEGORIES:KPAC Event
ATTACH;FMTTYPE=image/jpeg:https://www.kamloopsphotoarts.ca/wp-content/uploads/2023/10/217A2461-copy.jpg
END:VEVENT
BEGIN:VEVENT
DTSTART;TZID=America/Vancouver:20231219T190000
DTEND;TZID=America/Vancouver:20231219T203000
DTSTAMP:20260421T204253
CREATED:20231125T230148Z
LAST-MODIFIED:20231125T230149Z
UID:40027-1703012400-1703017800@www.kamloopsphotoarts.ca
SUMMARY:December 19\, 2023 - Lightroom/Photoshop Shared Interest Group
DESCRIPTION:This session is open to any KPAC member who would like to improve their skills using Lightroom and Photoshop or for those who may be interested in learning how to use these software tools. Members learn from members. Members are free to join/leave the group at any time. This meeting we will be discussing the use of Presets – those that come with the software\, those from other sources and those created by the user.  Homework is to come to the meeting with before and after images using some favourite presets and some using those you have created on your own. \n\n\n\nThis meeting is by Zoom Video Conferencing.
URL:https://www.kamloopsphotoarts.ca/event/december-19-2023-lightroom-photoshop-shared-interest-group/
CATEGORIES:KPAC Event
ATTACH;FMTTYPE=image/jpeg:https://www.kamloopsphotoarts.ca/wp-content/uploads/2023/09/Learning.jpg
END:VEVENT
END:VCALENDAR