BEGIN:VCALENDAR
VERSION:2.0
PRODID:-//Kamloops Photo Arts - ECPv6.15.20//NONSGML v1.0//EN
CALSCALE:GREGORIAN
METHOD:PUBLISH
X-WR-CALNAME:Kamloops Photo Arts
X-ORIGINAL-URL:https://www.kamloopsphotoarts.ca
X-WR-CALDESC:Events for Kamloops Photo Arts
REFRESH-INTERVAL;VALUE=DURATION:PT1H
X-Robots-Tag:noindex
X-PUBLISHED-TTL:PT1H
BEGIN:VTIMEZONE
TZID:America/Vancouver
BEGIN:DAYLIGHT
TZOFFSETFROM:-0800
TZOFFSETTO:-0700
TZNAME:PDT
DTSTART:20230312T100000
END:DAYLIGHT
BEGIN:STANDARD
TZOFFSETFROM:-0700
TZOFFSETTO:-0800
TZNAME:PST
DTSTART:20231105T090000
END:STANDARD
BEGIN:DAYLIGHT
TZOFFSETFROM:-0800
TZOFFSETTO:-0700
TZNAME:PDT
DTSTART:20240310T100000
END:DAYLIGHT
BEGIN:STANDARD
TZOFFSETFROM:-0700
TZOFFSETTO:-0800
TZNAME:PST
DTSTART:20241103T090000
END:STANDARD
BEGIN:DAYLIGHT
TZOFFSETFROM:-0800
TZOFFSETTO:-0700
TZNAME:PDT
DTSTART:20250309T100000
END:DAYLIGHT
BEGIN:STANDARD
TZOFFSETFROM:-0700
TZOFFSETTO:-0800
TZNAME:PST
DTSTART:20251102T090000
END:STANDARD
END:VTIMEZONE
BEGIN:VEVENT
DTSTART;TZID=America/Vancouver:20240109T143000
DTEND;TZID=America/Vancouver:20240109T160000
DTSTAMP:20260421T191348
CREATED:20231205T202911Z
LAST-MODIFIED:20231205T202912Z
UID:40091-1704810600-1704816000@www.kamloopsphotoarts.ca
SUMMARY:January 9\, 2024 - Evaluation/Workshop Shared Interest Group
DESCRIPTION:This is the first meeting of a new KPAC Shared Interest Group which is open to all KPAC members who would like to receive and give feedback on photographs on what is working well in an image and give suggestions on what might make it better. This group is initiated by Tracey Mourre but all members will play an equal roll in the ongoing group activities. At this first meeting\, members will develop ground rules\, meeting structure and frequency and schedule. As well\, there will be a number of images up for viewing to get the group started. As with all Shared Interest Groups\, the intent is for members to help members improve their photographic skills. All members are welcome. The meeting will be via Zoom Video Conferencing.
URL:https://www.kamloopsphotoarts.ca/event/january-9-2024-evaluation-workshop-shared-interest-group/
CATEGORIES:KPAC Event
ATTACH;FMTTYPE=image/jpeg:https://www.kamloopsphotoarts.ca/wp-content/uploads/2023/04/KPAC-Featured.jpeg
END:VEVENT
BEGIN:VEVENT
DTSTART;TZID=America/Vancouver:20240109T190000
DTEND;TZID=America/Vancouver:20240109T200000
DTSTAMP:20260421T191348
CREATED:20231223T150851Z
LAST-MODIFIED:20231223T150852Z
UID:40162-1704826800-1704830400@www.kamloopsphotoarts.ca
SUMMARY:January 9\, 2024 - KPAC Executive Meeting
DESCRIPTION:Regular meeting of the KPAC Executive. We encourage KPAC members to join and participate in our executive meetings. All are welcome.  \n\n\n\nThis meeting is via Zoom video conferencing.
URL:https://www.kamloopsphotoarts.ca/event/january-9-2024-kpac-executive-meeting/
CATEGORIES:KPAC Event
ATTACH;FMTTYPE=image/jpeg:https://www.kamloopsphotoarts.ca/wp-content/uploads/2023/12/photos-images-pictures-ss-1920.jpg
END:VEVENT
BEGIN:VEVENT
DTSTART;TZID=America/Vancouver:20240112T183000
DTEND;TZID=America/Vancouver:20240112T210000
DTSTAMP:20260421T191348
CREATED:20231025T224614Z
LAST-MODIFIED:20231108T195802Z
UID:39889-1705084200-1705093200@www.kamloopsphotoarts.ca
SUMMARY:January 12\, 2024 - BC/Yukon Inter-Club Speaker Series featuring Elizabeth Gray
DESCRIPTION:Elizabeth Gray – Black & White Photography – Shooting With Intent.  This event is moderated by the Victoria Camera Club and is open to all KPAC members. For further information and registration\, click here
URL:https://www.kamloopsphotoarts.ca/event/january-12-2024-bc-yukon-inter-club-speaker-series-featuring-elizabeth-gray/
ATTACH;FMTTYPE=image/jpeg:https://www.kamloopsphotoarts.ca/wp-content/uploads/2022/10/Logo-for-Inter-club-Speaker-Series-WEB-3.jpeg
END:VEVENT
BEGIN:VEVENT
DTSTART;TZID=America/Vancouver:20240116T190000
DTEND;TZID=America/Vancouver:20240116T203000
DTSTAMP:20260421T191348
CREATED:20231220T044805Z
LAST-MODIFIED:20231220T044807Z
UID:40155-1705431600-1705437000@www.kamloopsphotoarts.ca
SUMMARY:January 16\, 2024 - Lightroom/Photoshop Shared Interest Group
DESCRIPTION:This session is open to any KPAC member who would like to improve their skills using Lightroom and Photoshop or for those who may be interested in learning how to use these software tools. Members learn from members. Members are free to join/leave the group at any time. This meeting\, Bonnie Pryce will give a presentation on using the Clean Up tools in Photoshop. Your homework will be to familiarize yourself with where the following tools are in Photoshop – Clone Stamp\, Spot Healing Brush\, Patch Tool\, Remove Tool\, Content Aware Move Tool\, Eraser Tool\, Content Aware Fill and Generative AI fill. If you are able\, try some or all of these tools before the meeting.  \n\n\n\nThis meeting is by Zoom video conferencing.
URL:https://www.kamloopsphotoarts.ca/event/january-16-2024-lightroom-photoshop-shared-interest-group/
CATEGORIES:KPAC Event
ATTACH;FMTTYPE=image/jpeg:https://www.kamloopsphotoarts.ca/wp-content/uploads/2023/09/Learning.jpg
END:VEVENT
BEGIN:VEVENT
DTSTART;TZID=America/Vancouver:20240124T080000
DTEND;TZID=America/Vancouver:20240124T235900
DTSTAMP:20260421T191348
CREATED:20231205T030648Z
LAST-MODIFIED:20231220T045255Z
UID:40086-1706083200-1706140740@www.kamloopsphotoarts.ca
SUMMARY:January 24\, 2024 - CAPA Colour Competition Image Submission Deadline
DESCRIPTION:This is the deadline for photo submissions for the Club entry for the CAPA Colour competition. There are four categories for this competition – Landscape\, Man-made Structures & Objects\, Nature & Wildlife and Persons. For complete details and photo naming and sizing requirements\, please go to the CAPA Canada website by clicking here. \n\n\n\nSubmit your images to: competitions@kamloopsphotoarts.ca
URL:https://www.kamloopsphotoarts.ca/event/january-24-2023-capa-colour-competition-image-submission-deadline/
CATEGORIES:KPAC Event
ATTACH;FMTTYPE=image/jpeg:https://www.kamloopsphotoarts.ca/wp-content/uploads/2021/09/CapaCanada-edited.jpg
END:VEVENT
BEGIN:VEVENT
DTSTART;TZID=America/Vancouver:20240124T190000
DTEND;TZID=America/Vancouver:20240124T200000
DTSTAMP:20260421T191348
CREATED:20240115T151126Z
LAST-MODIFIED:20240115T151128Z
UID:40179-1706122800-1706126400@www.kamloopsphotoarts.ca
SUMMARY:January 24\, 2024 - Review of KPAC Results for CAPA B&W Competition
DESCRIPTION:This evening we will be reviewing the images selected and submitted by KPAC members for the CAPA Black and White competition which was held in November 2023. KPAC scoring along with CAPA scoring for each image will be reviewed and discussed. In addition\, entries submitted by some KPAC members in the Individual competition will also be shown along with their scores. \n\n\n\nThis meeting will be held via Zoom video conferencing.
URL:https://www.kamloopsphotoarts.ca/event/january-24-2024-review-of-kpac-results-for-capa-bw-competition/
CATEGORIES:KPAC Event
ATTACH;FMTTYPE=image/jpeg:https://www.kamloopsphotoarts.ca/wp-content/uploads/2023/09/217A9944-Edit-1-2-copy-3rs.jpg
END:VEVENT
BEGIN:VEVENT
DTSTART;TZID=America/Vancouver:20240131T190000
DTEND;TZID=America/Vancouver:20240131T200000
DTSTAMP:20260421T191349
CREATED:20231108T195015Z
LAST-MODIFIED:20231108T195016Z
UID:40006-1706727600-1706731200@www.kamloopsphotoarts.ca
SUMMARY:January 31\, 2024 - Showcase: Negative Space
DESCRIPTION:For this showcase\, think about any space that is left blank around your subject. When composing your shot\, observe how the negative space enhances your subject. \n\n\n\nThis session will be presented via Zoom Video Conferencing.
URL:https://www.kamloopsphotoarts.ca/event/january-31-2024-showcase-negative-space/
CATEGORIES:KPAC Event
ATTACH;FMTTYPE=image/jpeg:https://www.kamloopsphotoarts.ca/wp-content/uploads/2023/11/50968321732_c6efde53a9_c.jpg
END:VEVENT
END:VCALENDAR