BEGIN:VCALENDAR
VERSION:2.0
PRODID:-//Kamloops Photo Arts - ECPv6.15.20//NONSGML v1.0//EN
CALSCALE:GREGORIAN
METHOD:PUBLISH
X-WR-CALNAME:Kamloops Photo Arts
X-ORIGINAL-URL:https://www.kamloopsphotoarts.ca
X-WR-CALDESC:Events for Kamloops Photo Arts
REFRESH-INTERVAL;VALUE=DURATION:PT1H
X-Robots-Tag:noindex
X-PUBLISHED-TTL:PT1H
BEGIN:VTIMEZONE
TZID:America/Vancouver
BEGIN:DAYLIGHT
TZOFFSETFROM:-0800
TZOFFSETTO:-0700
TZNAME:PDT
DTSTART:20230312T100000
END:DAYLIGHT
BEGIN:STANDARD
TZOFFSETFROM:-0700
TZOFFSETTO:-0800
TZNAME:PST
DTSTART:20231105T090000
END:STANDARD
BEGIN:DAYLIGHT
TZOFFSETFROM:-0800
TZOFFSETTO:-0700
TZNAME:PDT
DTSTART:20240310T100000
END:DAYLIGHT
BEGIN:STANDARD
TZOFFSETFROM:-0700
TZOFFSETTO:-0800
TZNAME:PST
DTSTART:20241103T090000
END:STANDARD
BEGIN:DAYLIGHT
TZOFFSETFROM:-0800
TZOFFSETTO:-0700
TZNAME:PDT
DTSTART:20250309T100000
END:DAYLIGHT
BEGIN:STANDARD
TZOFFSETFROM:-0700
TZOFFSETTO:-0800
TZNAME:PST
DTSTART:20251102T090000
END:STANDARD
END:VTIMEZONE
BEGIN:VEVENT
DTSTART;TZID=America/Vancouver:20240402T190000
DTEND;TZID=America/Vancouver:20240402T200000
DTSTAMP:20260421T144730
CREATED:20240305T004420Z
LAST-MODIFIED:20240305T004422Z
UID:41010-1712084400-1712088000@www.kamloopsphotoarts.ca
SUMMARY:April 2\, 2024 - KPAC Executive Meeting
DESCRIPTION:Regular meeting of the KPAC Executive. We encourage KPAC members to join and participate in our executive meetings. All are welcome.  \n\n\n\nThis meeting is via Zoom video conferencing.
URL:https://www.kamloopsphotoarts.ca/event/april-2-2024-kpac-executive-meeting/
CATEGORIES:KPAC Event
ATTACH;FMTTYPE=image/jpeg:https://www.kamloopsphotoarts.ca/wp-content/uploads/2023/12/photos-images-pictures-ss-1920.jpg
END:VEVENT
BEGIN:VEVENT
DTSTART;TZID=America/Vancouver:20240409T143000
DTEND;TZID=America/Vancouver:20240409T160000
DTSTAMP:20260421T144730
CREATED:20240313T224839Z
LAST-MODIFIED:20240313T224840Z
UID:41068-1712673000-1712678400@www.kamloopsphotoarts.ca
SUMMARY:April 9\, 2024 - Evaluation/Workshop Shared Interest Group
DESCRIPTION:This meeting of the Evaluation/Workshop Shared Interest Group is open to all KPAC members. Members can join the group at any time. Homework for this meeting is to come prepared to share up to 3 photos with a theme of people – can be portraits or any image with a person(s) in it. Be prepared to receive comments/feedback on your images and to provide constructive feedback on other members photos. The intent is to offer solutions/alternatives to possibly improve a photo and to ask questions and encourage dialogue. If you use Lightroom\, it will be helpful to show your images in this application as it will allow you to make suggested changes to your image on the spot but this is not mandatory.  \n\n\n\nThis meeting will be held via Zoom video conferencing using the usual KPAC Zoom link.  \n\n\n\n\n\n\n\nDave Whiting Photo
URL:https://www.kamloopsphotoarts.ca/event/april-9-2024-evaluation-workshop-shared-interest-group/
CATEGORIES:KPAC Event
ATTACH;FMTTYPE=image/jpeg:https://www.kamloopsphotoarts.ca/wp-content/uploads/2024/03/Dave-Whiting-Waterpark.jpg
END:VEVENT
BEGIN:VEVENT
DTSTART;TZID=America/Vancouver:20240412T183000
DTEND;TZID=America/Vancouver:20240412T200000
DTSTAMP:20260421T144730
CREATED:20240306T142920Z
LAST-MODIFIED:20240314T013506Z
UID:41021-1712946600-1712952000@www.kamloopsphotoarts.ca
SUMMARY:April 12\, 2024 - BC/Yukon Inter-Club Speaker Series featuring Harold Davis
DESCRIPTION:Harold Davis – Creating Compelling Compositions. Of all the magical elixirs that make up a successful photograph\, composition is perhaps the most fundamental\, and at the same time the most elusive. What makes a composition “good”? Traditional attempts to define “good composition” and to pass on rules for good compositional construction are often doomed to failure. The truth is\, there are no hard and fast rules. Rules eliminate experimentation and spontaneity\, which are crucial for creating compelling\, dynamic\, and exciting compositions. The best compositions contain an element of the unexpected. \n\n\n\nThis event is moderated by the Delta Photo Club and is open to all KPAC members. For further information and registration\, Click Here. 
URL:https://www.kamloopsphotoarts.ca/event/april-12-2024-bc-yukon-inter-club-speaker-series-featuring-harold-davis/
ATTACH;FMTTYPE=image/jpeg:https://www.kamloopsphotoarts.ca/wp-content/uploads/2024/03/Harold-Davis-photo-of-WEB.jpg
END:VEVENT
BEGIN:VEVENT
DTSTART;TZID=America/Vancouver:20240416T190000
DTEND;TZID=America/Vancouver:20240416T200000
DTSTAMP:20260421T144730
CREATED:20240326T153631Z
LAST-MODIFIED:20240326T153632Z
UID:41376-1713294000-1713297600@www.kamloopsphotoarts.ca
SUMMARY:April 16\, 2024 - Lightroom/Photoshop Shared Interest Group
DESCRIPTION:For this session\, the focus will be on importing and organizing images in Lightroom. Members can share some of their favourite resources on this topic via email to the group prior to the meeting or share at the meeting. Members will share their practices and offer tips. All members are welcome. \n\n\n\nThis session is via Zoom video conferencing.
URL:https://www.kamloopsphotoarts.ca/event/april-16-2024-lightroom-photoshop-shared-interest-group/
CATEGORIES:KPAC Event
ATTACH;FMTTYPE=image/jpeg:https://www.kamloopsphotoarts.ca/wp-content/uploads/2023/09/Learning.jpg
END:VEVENT
BEGIN:VEVENT
DTSTART;TZID=America/Vancouver:20240424T190000
DTEND;TZID=America/Vancouver:20240424T200000
DTSTAMP:20260421T144730
CREATED:20240326T152457Z
LAST-MODIFIED:20240326T152458Z
UID:41373-1713985200-1713988800@www.kamloopsphotoarts.ca
SUMMARY:April 24\, 2024 - Showcase: People at Work/Play
DESCRIPTION:Just what the title implies\, photograph people going about their day to day jobs or recreational activities. \n\n\n\nThis session will be presented via Zoom Video Conferencing. \n\n\n\n\n\n\n\n\n\nIsobel Lamarche Photo
URL:https://www.kamloopsphotoarts.ca/event/april-24-2024-showcase-people-at-work-play/
CATEGORIES:KPAC Event
ATTACH;FMTTYPE=image/jpeg:https://www.kamloopsphotoarts.ca/wp-content/uploads/2024/03/Chook-Eastery.jpg
END:VEVENT
BEGIN:VEVENT
DTSTART;TZID=America/Vancouver:20240427T093000
DTEND;TZID=America/Vancouver:20240427T120000
DTSTAMP:20260421T144730
CREATED:20240406T165112Z
LAST-MODIFIED:20240406T165114Z
UID:41400-1714210200-1714219200@www.kamloopsphotoarts.ca
SUMMARY:April 27\, 2024 - Bird & Waterfowl Photoshoot with Norm Dougan
DESCRIPTION:Norm Dougan is a long term KPAC member who has won numerous CAPA awards for his outstanding wildlife photography. This will be a wonderful opportunity to learn and shoot with Norm who will give a short presentation on tips for getting strong images followed by an opportunity to photograph the wildlife at both Dufferin and Pineview Wetlands in Kamloops. \n\n\n\nFor camera gear\, bring the longest lens in your kit.  For those without suitable camera gear\, bring an extra SD card and you can use Dave’s camera for a session with help from Dave. \n\n\n\nYour favourite images can be shared at the KPAC Nature Showcase scheduled for May 29/24. \n\n\n\nSchedule for Event: \n\n\n\n\n9:30am Gather at the Picnic Shelter at Dufferin Park (Dufferin Park is adjacent to Dufferin Elementary School on Hillside Drive) \n\n\n\nIntroduction from Dave and photo tips from Norm for 15 minutes\n\n\n\nPhoto shoot for 45 minutes at the adjacent wetland\n\n\n\n10:30am coffee and snacks provided courtesy of KPAC and Tim Hortons\n\n\n\n11:00am Drive to Pineview Wetlands entrance on Copperhead Drive\n\n\n\nPhoto shoot for 45 minutes at the Pineview wetlands\n\n\n\n\n\n\n\n\nNorm Dougan in action
URL:https://www.kamloopsphotoarts.ca/event/april-27-2024-bird-waterfowl-photoshoot-with-norm-dougan/
CATEGORIES:KPAC Event
ATTACH;FMTTYPE=image/jpeg:https://www.kamloopsphotoarts.ca/wp-content/uploads/2024/04/Norm-Dougan_©RDWilliams_P1180491.jpg
END:VEVENT
END:VCALENDAR