BEGIN:VCALENDAR
VERSION:2.0
PRODID:-//Kamloops Photo Arts - ECPv6.15.20//NONSGML v1.0//EN
CALSCALE:GREGORIAN
METHOD:PUBLISH
X-ORIGINAL-URL:https://www.kamloopsphotoarts.ca
X-WR-CALDESC:Events for Kamloops Photo Arts
REFRESH-INTERVAL;VALUE=DURATION:PT1H
X-Robots-Tag:noindex
X-PUBLISHED-TTL:PT1H
BEGIN:VTIMEZONE
TZID:America/Vancouver
BEGIN:DAYLIGHT
TZOFFSETFROM:-0800
TZOFFSETTO:-0700
TZNAME:PDT
DTSTART:20230312T100000
END:DAYLIGHT
BEGIN:STANDARD
TZOFFSETFROM:-0700
TZOFFSETTO:-0800
TZNAME:PST
DTSTART:20231105T090000
END:STANDARD
BEGIN:DAYLIGHT
TZOFFSETFROM:-0800
TZOFFSETTO:-0700
TZNAME:PDT
DTSTART:20240310T100000
END:DAYLIGHT
BEGIN:STANDARD
TZOFFSETFROM:-0700
TZOFFSETTO:-0800
TZNAME:PST
DTSTART:20241103T090000
END:STANDARD
BEGIN:DAYLIGHT
TZOFFSETFROM:-0800
TZOFFSETTO:-0700
TZNAME:PDT
DTSTART:20250309T100000
END:DAYLIGHT
BEGIN:STANDARD
TZOFFSETFROM:-0700
TZOFFSETTO:-0800
TZNAME:PST
DTSTART:20251102T090000
END:STANDARD
END:VTIMEZONE
BEGIN:VEVENT
DTSTART;TZID=America/Vancouver:20241105T190000
DTEND;TZID=America/Vancouver:20241105T200000
DTSTAMP:20260421T042116
CREATED:20241001T150323Z
LAST-MODIFIED:20241001T150324Z
UID:41969-1730833200-1730836800@www.kamloopsphotoarts.ca
SUMMARY:November 5\, 2024 - KPAC Leadership Committee Meeting
DESCRIPTION:Regular meeting of the KPAC Leadership Committee. We encourage KPAC members to join and participate in our Leadership Committee meetings. All are welcome.  This meeting is via Zoom video conferencing.
URL:https://www.kamloopsphotoarts.ca/event/november-5-2024-kpac-leadership-committee-meeting/
CATEGORIES:KPAC Event
ATTACH;FMTTYPE=image/jpeg:https://www.kamloopsphotoarts.ca/wp-content/uploads/2023/12/photos-images-pictures-ss-1920.jpg
END:VEVENT
BEGIN:VEVENT
DTSTART;TZID=America/Vancouver:20241112T023000
DTEND;TZID=America/Vancouver:20241112T160000
DTSTAMP:20260421T042116
CREATED:20241016T140941Z
LAST-MODIFIED:20241016T140950Z
UID:41979-1731378600-1731427200@www.kamloopsphotoarts.ca
SUMMARY:November 12\, 2024 - Photo Evaluation Shared Interest Group
DESCRIPTION:This meeting of the Photo Evaluation Shared Interest Group is open to all KPAC members. Members can join the group at any time. Homework for this meeting is to come prepared to share up to 3 photos of your choice that you would like feedback on. Be prepared to receive comments/feedback on your images and to provide constructive feedback on other members photos. The intent is to offer solutions/alternatives to possibly improve a photo and to ask questions and encourage dialogue. You can show your images in Lightroom or other post processing software to allow for minor edits at the meeting but this is not mandatory. \n\n\n\nThis meeting will be held via Zoom video conferencing using the usual KPAC Zoom link. 
URL:https://www.kamloopsphotoarts.ca/event/november-12-2024-photo-evaluation-shared-interest-group/
CATEGORIES:KPAC Event
ATTACH;FMTTYPE=image/jpeg:https://www.kamloopsphotoarts.ca/wp-content/uploads/2022/09/36871713604_aa60af9f7c_c.jpg
END:VEVENT
BEGIN:VEVENT
DTSTART;TZID=America/Vancouver:20241119T190000
DTEND;TZID=America/Vancouver:20241119T203000
DTSTAMP:20260421T042116
CREATED:20241016T141901Z
LAST-MODIFIED:20241016T141904Z
UID:41981-1732042800-1732048200@www.kamloopsphotoarts.ca
SUMMARY:November 19\, 2024 - Lightroom/Photoshop Shared Interest Group
DESCRIPTION:For this session\, members are to share information which they learned and found useful/helpful from the 2024 Photoshop Virtual Summit. The Summit can be watched for free but you must register. Click here for the registration link. \n\n\n\nThis meeting is via Zoom video conferencing.
URL:https://www.kamloopsphotoarts.ca/event/november-19-2024-lightroom-photoshop-shared-interest-group/
CATEGORIES:KPAC Event
ATTACH;FMTTYPE=image/jpeg:https://www.kamloopsphotoarts.ca/wp-content/uploads/2023/09/Learning.jpg
END:VEVENT
BEGIN:VEVENT
DTSTART;TZID=America/Vancouver:20241120T190000
DTEND;TZID=America/Vancouver:20241120T200000
DTSTAMP:20260421T042116
CREATED:20241016T143913Z
LAST-MODIFIED:20241016T144024Z
UID:41983-1732129200-1732132800@www.kamloopsphotoarts.ca
SUMMARY:November 20\, 2024 - Slideshow by Ben Anders of His Travels to the North West Passage\, Greenland and Coast of Labrador
DESCRIPTION:Join us this evening for a slideshow and talk by Ben Anders of his recent travels through the North West Passage\, Greenland and the Coast of Labrador. \n\n\n\nThis meeting is via Zoom Video Conferencing.
URL:https://www.kamloopsphotoarts.ca/event/november-20-2024-slideshow-by-ben-anders-from-north-west-passage-greenland-and-coast-of-labrador/
CATEGORIES:KPAC Event
ATTACH;FMTTYPE=image/jpeg:https://www.kamloopsphotoarts.ca/wp-content/uploads/2024/10/istockphoto-2149168129-612x612-1.jpg
END:VEVENT
BEGIN:VEVENT
DTSTART;TZID=America/Vancouver:20241123T123000
DTEND;TZID=America/Vancouver:20241123T170000
DTSTAMP:20260421T042116
CREATED:20241016T151445Z
LAST-MODIFIED:20241016T151448Z
UID:41990-1732365000-1732381200@www.kamloopsphotoarts.ca
SUMMARY:November 23\, 2024 - Luncheon/Social followed by Photoshoot of a TRU Wolfpack Mens Volleyball Game
DESCRIPTION:This is an opportunity for members to get together in person and catch up. For this portion of the event\, members will meet at 12:30pm at Mr Mike’s Steakhouse Casual located in the Columbia Place Shopping Centre at 1200 Summit Drive. \n\n\n\nIf you like fast paced action\, then you will enjoy the challenge of photographing the TRU Wolfpack Mens Volleyball Team showing off their moves. The game starts at 3:00pm at the Kamloops Tournament Capital Centre located at 910 McGill Road. Tickets are required for this event – cost will be covered by KPAC but you must RSVP by November 13/24 to truwolfpack@kamloopsphotoarts.ca Ticket prices vary for adults and seniors\, so please indicate in your RSVP if you are over or under 60 years of age. \n\n\n\nMembers are welcome to attend one or both events. \n\n\n\nThe event image is a map of TRU & The Tournament Capital Centre which is marked TCC. There is parking adjacent to the TCC \n\n\n\nScreenshot
URL:https://www.kamloopsphotoarts.ca/event/november-23-2024-luncheon-social-followed-by-photoshoot-of-a-tru-wolfpack-mens-volleyball-game/
CATEGORIES:KPAC Event
END:VEVENT
BEGIN:VEVENT
DTSTART;TZID=America/Vancouver:20241127T190000
DTEND;TZID=America/Vancouver:20241127T200000
DTSTAMP:20260421T042116
CREATED:20241016T144610Z
LAST-MODIFIED:20241107T030414Z
UID:41987-1732734000-1732737600@www.kamloopsphotoarts.ca
SUMMARY:November 27\, 2024 - Showcase: Abstract Art & Review of CAPA Competition Results
DESCRIPTION:For this Showcase\, try using Intentional Camera Movement\, Double or Multiple Exposure\, Artificial Intelligence\, Macro or use Photoshop or other Photo processing software filters to create an abstract image. Or use any other technique that works for you. \n\n\n\nIn addition to Showcase\, the Club images and results of the 2024 CAPA Nature/Wildlife competition will be reviewed. \n\n\n\nThis meeting is via Zoom Video Conferencing.
URL:https://www.kamloopsphotoarts.ca/event/november-27-2024-showcase-abstract-art/
CATEGORIES:KPAC Event
ATTACH;FMTTYPE=image/jpeg:https://www.kamloopsphotoarts.ca/wp-content/uploads/2023/12/53258595404_9177638c74_c.jpg
END:VEVENT
END:VCALENDAR