BEGIN:VCALENDAR
VERSION:2.0
PRODID:-//Kamloops Photo Arts - ECPv6.15.20//NONSGML v1.0//EN
CALSCALE:GREGORIAN
METHOD:PUBLISH
X-ORIGINAL-URL:https://www.kamloopsphotoarts.ca
X-WR-CALDESC:Events for Kamloops Photo Arts
REFRESH-INTERVAL;VALUE=DURATION:PT1H
X-Robots-Tag:noindex
X-PUBLISHED-TTL:PT1H
BEGIN:VTIMEZONE
TZID:America/Vancouver
BEGIN:DAYLIGHT
TZOFFSETFROM:-0800
TZOFFSETTO:-0700
TZNAME:PDT
DTSTART:20230312T100000
END:DAYLIGHT
BEGIN:STANDARD
TZOFFSETFROM:-0700
TZOFFSETTO:-0800
TZNAME:PST
DTSTART:20231105T090000
END:STANDARD
BEGIN:DAYLIGHT
TZOFFSETFROM:-0800
TZOFFSETTO:-0700
TZNAME:PDT
DTSTART:20240310T100000
END:DAYLIGHT
BEGIN:STANDARD
TZOFFSETFROM:-0700
TZOFFSETTO:-0800
TZNAME:PST
DTSTART:20241103T090000
END:STANDARD
BEGIN:DAYLIGHT
TZOFFSETFROM:-0800
TZOFFSETTO:-0700
TZNAME:PDT
DTSTART:20250309T100000
END:DAYLIGHT
BEGIN:STANDARD
TZOFFSETFROM:-0700
TZOFFSETTO:-0800
TZNAME:PST
DTSTART:20251102T090000
END:STANDARD
END:VTIMEZONE
BEGIN:VEVENT
DTSTART;TZID=America/Vancouver:20241203T190000
DTEND;TZID=America/Vancouver:20241203T200000
DTSTAMP:20260421T025408
CREATED:20241119T192235Z
LAST-MODIFIED:20241119T192237Z
UID:42291-1733252400-1733256000@www.kamloopsphotoarts.ca
SUMMARY:December 3\, 2024 - KPAC Leadership Committee Meeting
DESCRIPTION:Regular meeting of the KPAC Leadership Committee. This meeting will primarily focus on planning for an indoor portrait workshop in the spring. We encourage KPAC members to join and participate in our Leadership Committee meetings. All are welcome.   \n\n\n\nThis meeting is via Zoom video conferencing.
URL:https://www.kamloopsphotoarts.ca/event/december-3-2024-kpac-leadership-committee-meeting/
CATEGORIES:KPAC Event
ATTACH;FMTTYPE=image/jpeg:https://www.kamloopsphotoarts.ca/wp-content/uploads/2023/12/photos-images-pictures-ss-1920.jpg
END:VEVENT
BEGIN:VEVENT
DTSTART;TZID=America/Vancouver:20241210T190000
DTEND;TZID=America/Vancouver:20241210T203000
DTSTAMP:20260421T025408
CREATED:20241119T191911Z
LAST-MODIFIED:20241121T140956Z
UID:42289-1733857200-1733862600@www.kamloopsphotoarts.ca
SUMMARY:December 10\, 2024 - Photo Evaluation Shared Interest Group
DESCRIPTION:Note Time Change for This Event \n\n\n\nThis meeting of the Photo Evaluation Shared Interest Group is open to all KPAC members. Members can join the group at any time. Homework for this meeting is to come prepared to share up to 3 photos of your choice that you would like feedback on. Be prepared to receive comments/feedback on your images and to provide constructive feedback on other members photos. The intent is to offer solutions/alternatives to possibly improve a photo and to ask questions and encourage dialogue. You can show your images in Lightroom or other post processing software to allow for minor edits at the meeting but this is not mandatory. \n\n\n\nThis meeting will be held via Zoom video conferencing using the usual KPAC Zoom link. 
URL:https://www.kamloopsphotoarts.ca/event/photo-evaluation-shared-interest-group/
CATEGORIES:KPAC Event
ATTACH;FMTTYPE=image/jpeg:https://www.kamloopsphotoarts.ca/wp-content/uploads/2023/03/IMG_3077-2-2-1-scaled.jpg
END:VEVENT
BEGIN:VEVENT
DTSTART;TZID=America/Vancouver:20241211T190000
DTEND;TZID=America/Vancouver:20241211T200000
DTSTAMP:20260421T025408
CREATED:20241016T152606Z
LAST-MODIFIED:20241016T152614Z
UID:41996-1733943600-1733947200@www.kamloopsphotoarts.ca
SUMMARY:December 11\, 2024 - Showcase: Mirrors & Reflections
DESCRIPTION:For this Showcase\, try reflections off water – could be a lake\, river or even a mud puddle. Reflections from the sun or try a self portrait in a mirror or window. \n\n\n\nThis meeting is via Zoom Video Conferencing
URL:https://www.kamloopsphotoarts.ca/event/december-11-2024-showcase-mirrors-reflections/
CATEGORIES:KPAC Event
ATTACH;FMTTYPE=image/jpeg:https://www.kamloopsphotoarts.ca/wp-content/uploads/2024/10/51941132284_f7398b79b7_c.jpg
END:VEVENT
BEGIN:VEVENT
DTSTART;TZID=America/Vancouver:20241217T190000
DTEND;TZID=America/Vancouver:20241217T203000
DTSTAMP:20260421T025408
CREATED:20241120T151547Z
LAST-MODIFIED:20241120T151549Z
UID:42294-1734462000-1734467400@www.kamloopsphotoarts.ca
SUMMARY:December 17\, 2024 - Lightroom/Photoshop Shared Interest Group
DESCRIPTION:For this session\, members are to alter up to 50% of an image of their choice using Artificial Intelligence. Come prepared to show both the before and after of your image in photoshop and share your process in the production such as selections made\, wording of prompts used to generate changes and other steps used to create your final image. \n\n\n\nThis meeting is via Zoom video conferencing. \n\n\n\n\n\n\n\nIsobel Lamarche Photo – AI Assist
URL:https://www.kamloopsphotoarts.ca/event/december-17-2024-lightroom-photoshop-shared-interest-group/
CATEGORIES:KPAC Event
ATTACH;FMTTYPE=image/jpeg:https://www.kamloopsphotoarts.ca/wp-content/uploads/2024/11/0K6A1600-Edit-copyrs.jpg
END:VEVENT
END:VCALENDAR