BEGIN:VCALENDAR
VERSION:2.0
PRODID:-//Kamloops Photo Arts - ECPv6.15.20//NONSGML v1.0//EN
CALSCALE:GREGORIAN
METHOD:PUBLISH
X-ORIGINAL-URL:https://www.kamloopsphotoarts.ca
X-WR-CALDESC:Events for Kamloops Photo Arts
REFRESH-INTERVAL;VALUE=DURATION:PT1H
X-Robots-Tag:noindex
X-PUBLISHED-TTL:PT1H
BEGIN:VTIMEZONE
TZID:America/Vancouver
BEGIN:DAYLIGHT
TZOFFSETFROM:-0800
TZOFFSETTO:-0700
TZNAME:PDT
DTSTART:20240310T100000
END:DAYLIGHT
BEGIN:STANDARD
TZOFFSETFROM:-0700
TZOFFSETTO:-0800
TZNAME:PST
DTSTART:20241103T090000
END:STANDARD
BEGIN:DAYLIGHT
TZOFFSETFROM:-0800
TZOFFSETTO:-0700
TZNAME:PDT
DTSTART:20250309T100000
END:DAYLIGHT
BEGIN:STANDARD
TZOFFSETFROM:-0700
TZOFFSETTO:-0800
TZNAME:PST
DTSTART:20251102T090000
END:STANDARD
BEGIN:DAYLIGHT
TZOFFSETFROM:-0800
TZOFFSETTO:-0700
TZNAME:PDT
DTSTART:20260308T100000
END:DAYLIGHT
BEGIN:STANDARD
TZOFFSETFROM:-0700
TZOFFSETTO:-0800
TZNAME:PST
DTSTART:20261101T090000
END:STANDARD
END:VTIMEZONE
BEGIN:VEVENT
DTSTART;TZID=America/Vancouver:20250107T190000
DTEND;TZID=America/Vancouver:20250107T200000
DTSTAMP:20260421T013900
CREATED:20241107T033224Z
LAST-MODIFIED:20241107T033225Z
UID:42276-1736276400-1736280000@www.kamloopsphotoarts.ca
SUMMARY:January 7\, 2025 - KPAC Leadership Committee Meeting
DESCRIPTION:Regular meeting of the KPAC Leadership Committee. We encourage KPAC members to join and participate in our Leadership Committee meetings. All are welcome.  This meeting is via Zoom video conferencing.
URL:https://www.kamloopsphotoarts.ca/event/january-7-2025-kpac-leadership-committee-meeting/
CATEGORIES:KPAC Event
ATTACH;FMTTYPE=image/jpeg:https://www.kamloopsphotoarts.ca/wp-content/uploads/2023/12/photos-images-pictures-ss-1920.jpg
END:VEVENT
BEGIN:VEVENT
DTSTART;TZID=America/Vancouver:20250112T080000
DTEND;TZID=America/Vancouver:20250112T160000
DTSTAMP:20260421T013900
CREATED:20241204T045925Z
LAST-MODIFIED:20241204T050022Z
UID:42365-1736668800-1736697600@www.kamloopsphotoarts.ca
SUMMARY:January 12\, 2025 - Kamloops Indoor Triathlon Photoshoot
DESCRIPTION:Photoshoot of athletes participating in the Kamloops Indoor Triathlon at the Tournament Capital Center at 910 McGill Road\, Kamloops. This is an opportunity to photograph athletes of all levels competing in swimming\, biking and running at the only sanctioned indoor triathlon in BC. This is sure to be a fun filled event with great photo opportunities.
URL:https://www.kamloopsphotoarts.ca/event/january-12-2024-kamloops-indoor-triathlon-photoshoot/
CATEGORIES:KPAC Event
END:VEVENT
BEGIN:VEVENT
DTSTART;TZID=America/Vancouver:20250114T190000
DTEND;TZID=America/Vancouver:20250114T203000
DTSTAMP:20260421T013900
CREATED:20241229T143146Z
LAST-MODIFIED:20241229T143148Z
UID:42518-1736881200-1736886600@www.kamloopsphotoarts.ca
SUMMARY:January 14\, 2025 - Photo Evaluation Shared Interest Group
DESCRIPTION:This meeting of the Photo Evaluation Shared Interest Group is open to all KPAC members. Members can join the group at any time. Homework for this meeting is to come prepared to share up to 3 photos of your choice that you would like feedback on. Be prepared to receive comments/feedback on your images and to provide constructive feedback on other members photos. The intent is to offer solutions/alternatives to possibly improve a photo and to ask questions and encourage dialogue. You can show your images in Lightroom or other post processing software to allow for minor edits at the meeting but this is not mandatory. \n\n\n\nThis meeting will be held via Zoom video conferencing using the usual KPAC Zoom link.  \n\n\n\n\n\n\n\nNorm Dougan Photo
URL:https://www.kamloopsphotoarts.ca/event/january-14-2025-photo-evaluation-shared-interest-group/
CATEGORIES:KPAC Event
ATTACH;FMTTYPE=image/jpeg:https://www.kamloopsphotoarts.ca/wp-content/uploads/2023/03/Norm-Dougan-Interior-Forest-Condominium-1-of-1.jpg
END:VEVENT
BEGIN:VEVENT
DTSTART;TZID=America/Vancouver:20250121T190000
DTEND;TZID=America/Vancouver:20250121T200000
DTSTAMP:20260421T013900
CREATED:20241228T153136Z
LAST-MODIFIED:20241228T153241Z
UID:42515-1737486000-1737489600@www.kamloopsphotoarts.ca
SUMMARY:January 21\, 2025 - Lightroom/Photoshop Shared Interest Group
DESCRIPTION:For this session\, members are to review the new feature in Adobe Photoshop Raw on removing reflections. Come prepared to show both the before and after of your image. There will also be a review of the Preview options in Lightroom. \n\n\n\nThis meeting is via Zoom video conferencing. \n\n\n\n\n\n\n\nIsobel Lamarche Photo
URL:https://www.kamloopsphotoarts.ca/event/january-21-2025-lightroom-photoshop-shared-interest-group/
CATEGORIES:KPAC Event
ATTACH;FMTTYPE=image/jpeg:https://www.kamloopsphotoarts.ca/wp-content/uploads/2024/10/51941132284_f7398b79b7_c.jpg
END:VEVENT
BEGIN:VEVENT
DTSTART;TZID=America/Vancouver:20250122T190000
DTEND;TZID=America/Vancouver:20250122T210000
DTSTAMP:20260421T013900
CREATED:20241217T151328Z
LAST-MODIFIED:20241217T151733Z
UID:42498-1737572400-1737579600@www.kamloopsphotoarts.ca
SUMMARY:January 22\, 2025 - Astrophotography Presentation and Slideshow by Mike Douthwright
DESCRIPTION:For this evening’s meeting we are going to be treated to a presentation on Astrophotography by Mike Douthwright. Mike is a fairly new member of our club so you may or may not have had the chance to meet him yet\, but perhaps you’ve seen some of his amazing night shots. This was Mike’s start….  \n\n\n\n“It was April of 2021 and I had just bought a used Canon Rebel T3i.  I was out camping and taking pictures after dark of constellations\, but also just shooting at random when I noticed a green haze when I shot towards the east.  I continued to turn to the north and suddenly my screen lit up with glowing green bands of aurora.  That was it\, the pictures weren’t amazing but I was hooked and proceeded to teach myself to take better night shots solely through trial and error and YouTube tutorials.” \n\n\n\nYou will not want to miss this introduction on how to capture your own Milky Way or Northern Lights masterpieces.  \n\n\n\nThis Presentation if via Zoom Video Conferencing. \n\n\n\n\n\n\n\nMike Douthwright Photo
URL:https://www.kamloopsphotoarts.ca/event/january-22-2025-astrophotography-presentation-and-slideshow-by-mike-douthwright/
CATEGORIES:KPAC Event
ATTACH;FMTTYPE=image/jpeg:https://www.kamloopsphotoarts.ca/wp-content/uploads/2024/12/Mike-Douthwright.jpg
END:VEVENT
BEGIN:VEVENT
DTSTART;TZID=America/Vancouver:20250124T183000
DTEND;TZID=America/Vancouver:20250124T210000
DTSTAMP:20260421T013900
CREATED:20241215T161132Z
LAST-MODIFIED:20250122T162629Z
UID:42487-1737743400-1737752400@www.kamloopsphotoarts.ca
SUMMARY:January 24\, 2025 - BC/Yukon Inter-Club Speaker: David McColm on Night Sky Photography from Whistler to Vancouver Island
DESCRIPTION:David McColm is renowned for his breathtaking landscape and night sky photography. Based in Ucluelet after spending many years in Whistler\, David’s expertise lies in capturing the beauty of the natural world\, from majestic mountain ranges to ethereal northern lights. His passion for time-lapse photography adds a dynamic element to his work\, making his presentations both visually stunning and educational. \n\n\n\nIn this session\, David will showcase still images\, time-lapse videos\, and his unique approach to capturing last light (around sunset) from a helicopter. He may also premiere a new time-lapse short film of the October 10th northern lights from Tofino. \n\n\n\nIf time permits\, David will share his techniques and stories from shooting powerful storms on the west coast of Vancouver Island. \n\n\n\nThis event is via Zoom Video Conferencing and isopen to all KPAC members but you must register. Click here to register.
URL:https://www.kamloopsphotoarts.ca/event/january-24-2025-bc-yukon-inter-club-speaker-david-mccolm/
ATTACH;FMTTYPE=image/jpeg:https://www.kamloopsphotoarts.ca/wp-content/uploads/2020/11/Logo-PZ-Series-of-4.jpeg
END:VEVENT
BEGIN:VEVENT
DTSTART;TZID=America/Vancouver:20250129T190000
DTEND;TZID=America/Vancouver:20250129T203000
DTSTAMP:20260421T013900
CREATED:20241217T153618Z
LAST-MODIFIED:20241217T154107Z
UID:42496-1738177200-1738182600@www.kamloopsphotoarts.ca
SUMMARY:January 29\, 2024 - Showcase: Feet and Hands
DESCRIPTION:Shoot old and young feet and hands and anything in between. Colour\, black and white and large or small – we look forward to seeing your creative shots.  \n\n\n\nFor information on sizing and how to submit your images\, click here. \n\n\n\nThis event is via Zoom Video Conferencing. \n\n\n\n\n\n\n\nIsobel Lamarche Photo
URL:https://www.kamloopsphotoarts.ca/event/january-29-2024-showcase-feet-and-hands/
CATEGORIES:KPAC Event
ATTACH;FMTTYPE=image/jpeg:https://www.kamloopsphotoarts.ca/wp-content/uploads/2024/12/Isobel-Lamarche-Trumpet.jpg
END:VEVENT
END:VCALENDAR